BEGIN:VCALENDAR
VERSION:2.0
PRODID:-//ChamberMaster//Event Calendar 2.0//EN
METHOD:PUBLISH
X-PUBLISHED-TTL:P3D
REFRESH-INTERVAL:P3D
CALSCALE:GREGORIAN
BEGIN:VEVENT
DTSTART:20150501T141500Z
DTEND:20150501T210000Z
X-MICROSOFT-CDO-ALLDAYEVENT:FALSE
SUMMARY:May 1\, 2015 - Surrey Board of Trade Tour of Industry
DESCRIPTION:Surrey Board of Trade Tour of Industry\n\n\n\nThe Surrey Board of Trade will be hosting the 6th Surrey Industry Tour. This is a 3 bus   38 passengers each   bus tour that showcases Surrey's unique industries (from aviation\, agriculture technologies\, education\, health care\, manufacturing\, winery and more) and industrial lands in Surrey.\n\n \n\nThe tour reaches community leaders and business professionals\, locally and within the Metro Vancouver Region\, to give them an awareness of the diversity of industry that Surrey has to offer. \n\nSurrey is the fastest growing city in British Columbia.  You'll sample the strength of Surrey's economy\, the development of business and various industries within the city.\n\n\n\nThis tour is a brand building exercise to showcase business and industry in Surrey. \n\n\n\nDETAILS:\n\nThere will be 3 buses\, with 4 to 5 different tour stops on each bus.  You can choose which bus you want to go on. The tour will conclude with a guest speaker during a luncheon. There are only 105 seats available.
X-ALT-DESC;FMTTYPE=text/html:<strong>Surrey Board of Trade Tour of Industry</strong><br />\n<br />\n<span style="color:#141413\;"><span style="font-family:arial\;">The Surrey Board of Trade will be hosting the 6<sup>th</sup> Surrey Industry Tour. This is a 3 bus &ndash\; 38 passengers each &ndash\; bus tour that </span></span><span style="font-family:arial\;">showcases Surrey&rsquo\;s unique industries (from aviation\, agriculture technologies\, education\, health care\, manufacturing\, winery and more) and industrial lands in Surrey.</span><br />\n&nbsp\;<br />\n<span style="color:#141413\;"><span style="font-family:arial\;">The tour reaches community leaders and business professionals\, locally and within the Metro Vancouver Region\, to give them an awareness of the diversity of industry that Surrey has to offer. </span></span><br />\n<span style="font-family:arial\;"><span style="font-size:10pt\;">Surrey is the fastest growing city in British Columbia.&nbsp\; You&rsquo\;ll sample the strength of Surrey&rsquo\;s economy\, the development of business and various industries within the city.</span></span><br />\n<br />\n<span style="font-family:arial\;">This tour is a brand building exercise to showcase business and industry in Surrey.&nbsp\;</span><br />\n<br />\n<strong><span style="color:#141413\;"><span style="font-family:arial\;">DETAILS:</span></span></strong><br />\n<span style="font-family:arial\;">There will be 3 buses\, with 4 to 5 different tour stops on each bus.&nbsp\; You can choose which bus you want to go on. The tour will conclude with a guest speaker during a luncheon. There are only 105 seats available.&nbsp\;</span>&nbsp\;<br />\n<br />\n&nbsp\;
LOCATION:Start at the Surrey Board of Trade 101 - 14439 104th Ave Surrey\, BC
UID:e.749.2833
SEQUENCE:3
DTSTAMP:20260423T134353Z
URL:https://business.swrbot.com/events/details/may-1-2015-surrey-board-of-trade-tour-of-industry-05-01-2015-2833
END:VEVENT

END:VCALENDAR
