BEGIN:VCALENDAR
VERSION:2.0
PRODID:-//ChamberMaster//Event Calendar 2.0//EN
METHOD:PUBLISH
X-PUBLISHED-TTL:P3D
REFRESH-INTERVAL:P3D
CALSCALE:GREGORIAN
BEGIN:VEVENT
DTSTART:20170510T144500Z
DTEND:20170510T170000Z
X-MICROSOFT-CDO-ALLDAYEVENT:FALSE
SUMMARY:May 10\, 2017 - How to Deal with the Canada Revenue Agency
DESCRIPTION:Having to deal with the Canada Revenue Agency can be a daunting task. At this session you will better prepare yourself by learning about:\n\n	Recent enhancements to CRA funding and programs\n	Requirement to file a tax return - penalties for failure to file\n	Assessments - CRA's responsibility\n	The Notice of Assessment / Normal Reassessment Period\n	CRA Audit Powers - what CRA can demand of taxpayers\n	Requirement to provide information\n	CRA's ability to demand information\, penalties for non-compliance\, exceptions\n	Dispute Resolution: Notice of Objection/Notice of Appeal\n	Appearing in Tax Court - How/Where\, Minister's Assumptions of Fact\n	Fairness Relief - Interest and Penalties\, voluntary disclosure\n	Settlement and Payment - how to cut a deal with CRA\n	Collections - options for CRA to collect tax debt\n	Director's Liability - What is it? What taxpayers can do.\n\n\n\nThis workshop is facilitated by Michael Gemmiti\, a tax law specialist at Manthorpe Law Offices.
X-ALT-DESC;FMTTYPE=text/html:Having to deal with the Canada Revenue Agency can be a daunting task. At this session you will better prepare yourself by learning about:\n<ul>\n	<li>Recent enhancements to CRA funding and programs</li>\n	<li>Requirement to file a tax return - penalties for failure to file</li>\n	<li>Assessments - CRA&rsquo\;s responsibility</li>\n	<li>The Notice of Assessment / Normal Reassessment Period</li>\n	<li>CRA Audit Powers - what CRA can demand of taxpayers</li>\n	<li>Requirement to provide information</li>\n	<li>CRA&rsquo\;s ability to demand information\, penalties for non-compliance\, exceptions</li>\n	<li>Dispute Resolution: Notice of Objection/Notice of Appeal</li>\n	<li>Appearing in Tax Court - How/Where\, Minister&rsquo\;s Assumptions of Fact</li>\n	<li>Fairness Relief - Interest and Penalties\, voluntary disclosure</li>\n	<li>Settlement and Payment - how to cut a deal with CRA</li>\n	<li>Collections - options for CRA to collect tax debt</li>\n	<li>Director&rsquo\;s Liability - What is it? What taxpayers can do.</li>\n</ul>\n<br />\n<i><b>This workshop is facilitated by Michael Gemmiti\, a tax law specialist at Manthorpe Law Offices.</b></i>
LOCATION:Surrey Board of Trade 101\, 14439 104th Ave\, Surrey
UID:e.749.5292
SEQUENCE:3
DTSTAMP:20260422T013602Z
URL:https://business.swrbot.com/events/details/may-10-2017-how-to-deal-with-the-canada-revenue-agency-05-10-2017-5292
END:VEVENT

END:VCALENDAR
