BEGIN:VCALENDAR
VERSION:2.0
PRODID:-//ChamberMaster//Event Calendar 2.0//EN
METHOD:PUBLISH
X-PUBLISHED-TTL:P3D
REFRESH-INTERVAL:P3D
CALSCALE:GREGORIAN
BEGIN:VEVENT
DTSTART:20170512T003000Z
DTEND:20170512T033000Z
X-MICROSOFT-CDO-ALLDAYEVENT:FALSE
SUMMARY:May 11\, 2017 - Surrey International Trade Awards
DESCRIPTION:Join us in celebrating the recipients of the 8th Surrey International Trade Awards. Winners will be presented at a celebratory networking reception on Thursday\, May 11\, 2017. Awards will be presented in the following categories: \n\nSmall Business | Large Business \n\nEnjoy delicious hors d'oeuvres\, make new business contacts\, mingle with government representatives and consuls general\, and celebrate the achievements of Surrey's finest importers and exporters! \n\nThe event will feature speaker presentations and an International Trade Show.
X-ALT-DESC;FMTTYPE=text/html:<div class="page" title="Page 1">\n<div class="section">\n<div class="layoutArea">\n<div class="column">\n<p><span style="font-size:12px\;"><span style="font-family: arial\;">Join us in celebrating the recipients of the 8th Surrey International Trade Awards. Winners will be presented at a celebratory networking reception on Thursday\, May 11\, 2017. Awards will be presented in the following categories: </span></span></p>\n\n<p><span style="font-size:12px\;"><span style="font-family: arial\;"><span style="font-weight: 700\;">Small Business | Large Business </span></span></span></p>\n\n<p><span style="font-size:12px\;"><span style="font-family: arial\;">Enjoy delicious hors d&rsquo\;oeuvres\, make new business contacts\, mingle with government representatives and consuls general\, and celebrate the achievements of Surrey&rsquo\;s finest importers and exporters! </span></span></p>\n\n<p><span style="font-size:12px\;"><span style="font-family: arial\;">The event will feature speaker presentations and an International Trade Show. </span></span></p>\n</div>\n</div>\n</div>\n</div>\n
LOCATION:Sheraton Vancouver Guildford Hotel 15269 104 Ave\, Surrey
UID:e.749.5117
SEQUENCE:3
DTSTAMP:20260422T013220Z
URL:https://business.swrbot.com/events/details/may-11-2017-surrey-international-trade-awards-05-11-2017-5117
END:VEVENT

END:VCALENDAR
