BEGIN:VCALENDAR
VERSION:2.0
PRODID:-//ChamberMaster//Event Calendar 2.0//EN
METHOD:PUBLISH
X-PUBLISHED-TTL:P3D
REFRESH-INTERVAL:P3D
CALSCALE:GREGORIAN
BEGIN:VEVENT
DTSTART;VALUE=DATE:20100513
DTEND;VALUE=DATE:20100514
TRANSP:TRANSPARENT
X-MICROSOFT-CDO-ALLDAYEVENT:TRUE
SUMMARY:May 13\, 2010 - International Trade Dinner and Export Awards
DESCRIPTION:
X-ALT-DESC;FMTTYPE=text/html:
LOCATION:
UID:e.749.1525
SEQUENCE:3
DTSTAMP:20260422T220540Z
URL:https://business.swrbot.com/events/details/may-13-2010-international-trade-dinner-and-export-awards-05-13-2010-1525
END:VEVENT

END:VCALENDAR
