BEGIN:VCALENDAR
VERSION:2.0
PRODID:-//ChamberMaster//Event Calendar 2.0//EN
METHOD:PUBLISH
X-PUBLISHED-TTL:P3D
REFRESH-INTERVAL:P3D
CALSCALE:GREGORIAN
BEGIN:VEVENT
DTSTART:20140514T181500Z
DTEND:20140514T203000Z
X-MICROSOFT-CDO-ALLDAYEVENT:FALSE
SUMMARY:May 14\, 2014 - Mayor's State of the City Address
DESCRIPTION:**This event is now sold out. To be added to the wait list\, please call 604-581-7130 or email info@businessinsurrey.com.\n\n\n\nAnnual State of the City Luncheon\n\nwith Her Worship the Mayor of Surrey\, Dianne Watts\n\n\n\nJoin Mayor Dianne Watts for her annual presentation on the City of Surrey's\n\nprogress and vision.\n\n\n\nTopics will include a discussion of Surrey's Economic Outlook and plans for the coming year.\n\n\n\nEarly registration is recommended.\n\n\n\nJointly hosted by:\n\n	Cloverdale Business Association\n	Cloverdale District Chamber of Commerce\n	Downtown Surrey Business Improvement Association\n	Newton Business Improvement Association\n	Surrey Board of Trade\n	Tourism Surrey\n	South Surrey & White Rock Chamber of Commerce\n\n\n\n** If you require a vegetarian meal or have other special dietary requirements\, please call Heather Booth at 604-634-0341 or email her at heatherbooth@businessinsurrey.com at least 72 hours prior to the event
X-ALT-DESC;FMTTYPE=text/html:<span style="font-size:14px\;"><strong><span style="color:#FF0000\;">**This event is now sold out. To be added to the wait list\, please call 604-581-7130 or email <a href="mailto:info@businessinsurrey.com">info@businessinsurrey.com</a>.</span><br />\n<br />\nAnnual State of the City Luncheon</strong></span><br />\nwith Her Worship the Mayor of Surrey\, Dianne Watts<br />\n<br />\nJoin Mayor Dianne Watts for her annual presentation on the City of Surrey&rsquo\;s<br />\nprogress and vision.<br />\n<br />\nTopics will include a discussion of Surrey&rsquo\;s Economic Outlook and plans for the coming year.<br />\n<br />\n<strong>Early registration is recommended.</strong><br />\n<br />\nJointly hosted by:\n<ul>\n	<li>Cloverdale Business Association</li>\n	<li>Cloverdale District Chamber of Commerce</li>\n	<li>Downtown Surrey Business Improvement Association</li>\n	<li>Newton Business Improvement Association</li>\n	<li>Surrey Board of Trade</li>\n	<li>Tourism Surrey</li>\n	<li>South Surrey &amp\; White Rock Chamber of Commerce</li>\n</ul>\n<br />\n** If you require a vegetarian meal or have other special dietary requirements\, please call Heather Booth at 604-634-0341 or email her at <a href="mailto:heatherbooth@businessinsurrey.com">heatherbooth@businessinsurrey.com</a> at least 72 hours prior to the event
LOCATION:Sheraton Vancouver Guildford Hotel 15269 104th Ave Surrey\, BC
UID:e.749.2562
SEQUENCE:3
DTSTAMP:20260425T213146Z
URL:https://business.swrbot.com/events/details/may-14-2014-mayor-s-state-of-the-city-address-05-14-2014-2562
END:VEVENT

END:VCALENDAR
