BEGIN:VCALENDAR
VERSION:2.0
PRODID:-//ChamberMaster//Event Calendar 2.0//EN
METHOD:PUBLISH
X-PUBLISHED-TTL:P3D
REFRESH-INTERVAL:P3D
CALSCALE:GREGORIAN
BEGIN:VEVENT
DTSTART:20150514T150000Z
DTEND:20150514T170000Z
X-MICROSOFT-CDO-ALLDAYEVENT:FALSE
SUMMARY:May 14\, 2015 - How to Hire the Perfect Team Member
DESCRIPTION:How to Hire the Perfect Team Member
X-ALT-DESC;FMTTYPE=text/html:<span style="font-family:arial\,helvetica\,sans-serif\;"><strong>How to Hire the Perfect Team Member</strong></span><br />\n&nbsp\;
LOCATION:Surrey Board of Trade Conference Room 101 - 14439 104 Ave Surrey\, BC
UID:e.749.3557
SEQUENCE:3
DTSTAMP:20260423T133526Z
URL:https://business.swrbot.com/events/details/may-14-2015-how-to-hire-the-perfect-team-member-05-14-2015-3557
END:VEVENT

END:VCALENDAR
