BEGIN:VCALENDAR
VERSION:2.0
PRODID:-//ChamberMaster//Event Calendar 2.0//EN
METHOD:PUBLISH
X-PUBLISHED-TTL:P3D
REFRESH-INTERVAL:P3D
CALSCALE:GREGORIAN
BEGIN:VEVENT
DTSTART:20190515T003000Z
DTEND:20190515T023000Z
X-MICROSOFT-CDO-ALLDAYEVENT:FALSE
SUMMARY:May 14\, 2019 - Showcase Series: Surrey Event LifeSciences BC Reception
DESCRIPTION:This series features speakers from the life sciences community including SFU Surrey\, STEMCELL Technologies and the Michael Smith Foundation for Health Research.
X-ALT-DESC;FMTTYPE=text/html:This series features speakers from the life sciences community including SFU Surrey\, STEMCELL Technologies and the Michael Smith Foundation for Health Research.
LOCATION:Civic Hotel\, Autograph Collection (13475 Central Ave\, Surrey\, BC V3T 4B8)
UID:e.749.10265
SEQUENCE:3
DTSTAMP:20260420T190317Z
URL:https://business.swrbot.com/events/details/may-14-2019-showcase-series-surrey-event-lifesciences-bc-reception-05-14-2019-10265
END:VEVENT

END:VCALENDAR
