BEGIN:VCALENDAR
VERSION:2.0
PRODID:-//ChamberMaster//Event Calendar 2.0//EN
METHOD:PUBLISH
X-PUBLISHED-TTL:P3D
REFRESH-INTERVAL:P3D
CALSCALE:GREGORIAN
BEGIN:VEVENT
DTSTART:20180516T144500Z
DTEND:20180516T170000Z
X-MICROSOFT-CDO-ALLDAYEVENT:FALSE
SUMMARY:May 16\, 2018 - SBOT Workshop: Navigating A Cybercrime War Zone
DESCRIPTION:Cyber Criminals and Ransomware have wreaked havoc across the globe in 2017 and continue unabated while robbing us blind. It's clear\, we live in a war zone and if you are concerned about the security of your computer networks\, lost or stolen devices\, or the privacy of your confidential information\, this is a must attend workshop that will show you how to avoid the common mistakes that many small business owners make every day.\n\n\n\nJoin us and discover some amazingly simple strategies you can use to protect your business from becoming a victim in 2018. \n\n\n\nThis workshop is facilitated by Bob Milliken of Compunet Info Tech. He is an IT expert who has worked in the IT Industry for over 30 years\, including Microsoft and Univac. Bob is also a Toastmaster and regular speaker to business groups with a focus on Defining their IT Strategy and How to Master Their IT.
X-ALT-DESC;FMTTYPE=text/html:<span style="font-size:14px\;"><span style="font-family: arial\;">Cyber Criminals and Ransomware have wreaked havoc across the globe in 2017 and continue unabated while robbing us blind. It&rsquo\;s&nbsp\;clear\, we live in a war zone and if you are concerned about the security of your computer networks\, lost or stolen devices\, or the privacy of your confidential information\, this is a must attend&nbsp\;workshop&nbsp\;that will show you how to avoid the common mistakes that many small business owners make every day.<br />\n<br />\n<span style="background: white none repeat scroll 0% 0%\;">Join us and discover some amazingly simple strategies you can use to protect your business from becoming a victim in 2018.&nbsp\;</span><br />\n<br />\nThis&nbsp\;workshop&nbsp\;is facilitated by Bob Milliken&nbsp\;of </span></span><a href="https://compunet.ca/">Compunet Info Tech</a>. He<span style="font-size:14px\;"><span style="font-family: arial\;">&nbsp\;is an IT expert who has worked in the IT Industry for over 30 years\, including Microsoft and Univac. Bob is also a Toastmaster and regular speaker to business groups with a focus on<em>&nbsp\;Defining their IT Strategy and How to Master Their IT.</em></span></span><br />\n<br />\n&nbsp\;
LOCATION:Surrey Board of Trade Conference Room (101-14439\, 104th Ave\, Surrey\, V3R 1M1)
UID:e.749.7802
SEQUENCE:3
DTSTAMP:20260421T102654Z
URL:https://business.swrbot.com/events/details/may-16-2018-sbot-workshop-navigating-a-cybercrime-war-zone-05-16-2018-7802
END:VEVENT

END:VCALENDAR
