BEGIN:VCALENDAR
VERSION:2.0
PRODID:-//ChamberMaster//Event Calendar 2.0//EN
METHOD:PUBLISH
X-PUBLISHED-TTL:P3D
REFRESH-INTERVAL:P3D
CALSCALE:GREGORIAN
BEGIN:VEVENT
DTSTART;VALUE=DATE:20100519
DTEND;VALUE=DATE:20100520
TRANSP:TRANSPARENT
X-MICROSOFT-CDO-ALLDAYEVENT:TRUE
SUMMARY:May 19 2010 - Let's Talk Exports Breakfast
DESCRIPTION:
X-ALT-DESC;FMTTYPE=text/html:
LOCATION:
UID:e.749.1581
SEQUENCE:3
DTSTAMP:20260422T221613Z
URL:https://business.swrbot.com/events/details/may-19-2010-let-s-talk-exports-breakfast-05-19-2010-1581
END:VEVENT

END:VCALENDAR
