BEGIN:VCALENDAR
VERSION:2.0
PRODID:-//ChamberMaster//Event Calendar 2.0//EN
METHOD:PUBLISH
X-PUBLISHED-TTL:P3D
REFRESH-INTERVAL:P3D
CALSCALE:GREGORIAN
BEGIN:VEVENT
DTSTART:20140502T141500Z
DTEND:20140502T210000Z
X-MICROSOFT-CDO-ALLDAYEVENT:FALSE
SUMMARY:May 2\, 2014 - Surrey Board of Trade Tour of Industry
DESCRIPTION:Surrey Board of Trade Tour of Industry\n\n\n\nThe Surrey Board of Trade will be hosting the 5th Surrey Industry Tour. This is a 3 bus   38 passengers each   bus tour that showcases Surrey's unique industries (from aviation\, agriculture technologies\, education\, health care\, manufacturing\, winery and more) and industrial lands in Surrey.\n\n \n\nThe tour reaches community leaders and business professionals\, locally and within the Metro Vancouver Region\, to give them an awareness of the diversity of industry that Surrey has to offer. The tour\, through commentary by Colliers International\, showcases what makes Surrey a premier place to do business.\n\nSurrey is the fastest growing city in British Columbia.  You'll sample the strength of Surrey's economy\, the development of business and various industries within the city.\n\n\n\nThis tour is a brand building exercise to showcase business and industry in Surrey. Our friends from the Consulate offices will be present to spread Surrey's economic development message. \n\nDETAILS:\n\nThere will be 3 buses\, with 4 to 5 different tour stops on each bus.  You can choose which bus you want to go on. The tour will conclude with a guest speaker during a luncheon. There are only 105 seats available. \n\n\n\nBus One:\n\n\n	Murray Latta Progressive Machine Inc.\n	Back in Motion Rehab\n	Surrey's new City Hall \n	PW Trenchless\n\nIndustries: Manufacturing / Health / Construction / Civic\n\nAreas:  Campbell Heights\; South Surrey\; Cloverdale\; Downtown Surrey \n\n \n\nBus Two:\n\n\n	Aegis Industrial Finishing Ltd. \n	Advance Wire Products Ltd. \n	My Shanti\n	Pacific Oral Health Society\n\nIndustries: Hospitality / Manufacturing / Health\n\nAreas:  Campbell Heights\; South Surrey\; Cloverdale\n\n \n\nBus Three:\n\n\n	Central City Brewers & Distillers (new location!)\n	Laser Valley Technologies\n	Astrographic Industries Ltd.\n	Heppell's Farm\n\nIndustries: Hospitality / Manufacturing / Agriculture\n\nAreas:  Bridgeview\; Port Kells\; Cloverdale\n\n \n\nHelpful Hints!\n\n\n	Some tour stops will be manufacturing plants\, farms\, constructions sites   we recommend you wear comfortable\, close-toed shoes!\n	Bring your business cards for networking on your bus!
X-ALT-DESC;FMTTYPE=text/html:<strong>Surrey Board of Trade Tour of Industry</strong><br />\n<br />\n<span style="color:#141413\;"><span style="font-family:arial\;">The Surrey Board of Trade will be hosting the 5<sup>th</sup> Surrey Industry Tour. This is a 3 bus &ndash\; 38 passengers each &ndash\; bus tour that </span></span><span style="font-family:arial\;">showcases Surrey&rsquo\;s unique industries (from aviation\, agriculture technologies\, education\, health care\, manufacturing\, winery and more) and industrial lands in Surrey.</span><br />\n&nbsp\;<br />\n<span style="color:#141413\;"><span style="font-family:arial\;">The tour reaches community leaders and business professionals\, locally and within the Metro Vancouver Region\, to give them an awareness of the diversity of industry that Surrey has to offer. The tour\, through commentary by Colliers International\, showcases what makes Surrey a premier place to do business.</span></span><br />\n<span style="font-family:arial\;"><span style="font-size:10pt\;">Surrey is the fastest growing city in British Columbia.&nbsp\; You&rsquo\;ll sample the strength of Surrey&rsquo\;s economy\, the development of business and various industries within the city.</span></span><br />\n<br />\n<span style="font-family:arial\;">This tour is a brand building exercise to showcase business and industry in Surrey. Our friends from the Consulate offices will be present to spread Surrey&rsquo\;s economic development message. </span><br />\n<strong><span style="color:#141413\;"><span style="font-family:arial\;">DETAILS:</span></span></strong><br />\n<span style="font-family:arial\;">There will be 3 buses\, with 4 to 5 different tour stops on each bus.&nbsp\; You can choose which bus you want to go on. The tour will conclude with a guest speaker during a luncheon. There are only 105 seats available. </span><br />\n<br />\n<strong><u><span style="font-family:arial\;"><span style="font-size:10.0pt\;">Bus One:</span></span></u></strong>\n\n<ol>\n	<li><span style="font-family:arial\;"><span style="font-size:10.0pt\;">Murray Latta Progressive Machine Inc.</span></span></li>\n	<li><span style="font-family:arial\;"><span style="font-size:10.0pt\;">Back in Motion Rehab</span></span></li>\n	<li><span style="font-family:arial\;"><span style="font-size:10.0pt\;">Surrey&rsquo\;s new City Hall </span></span></li>\n	<li><span style="font-family:arial\;"><span style="font-size:10.0pt\;">PW Trenchless</span></span></li>\n</ol>\n<strong><span style="font-family:arial\;"><span style="font-size:10.0pt\;">Industries: </span></span></strong><span style="font-family:arial\;"><span style="font-size:10.0pt\;">Manufacturing / Health / Construction / Civic</span></span><br />\n<strong><span style="font-family:arial\;"><span style="font-size:10.0pt\;">Areas:</span></span></strong><span style="font-family:arial\;"><span style="font-size:10.0pt\;">&nbsp\; Campbell Heights\; South Surrey\; Cloverdale\; Downtown Surrey </span></span><br />\n&nbsp\;<br />\n<strong><u><span style="font-family:arial\;"><span style="font-size:10.0pt\;">Bus Two:</span></span></u></strong>\n\n<ol>\n	<li><span style="font-family:arial\;"><span style="font-size:10.0pt\;">Aegis Industrial Finishing Ltd. </span></span></li>\n	<li><span style="font-family:arial\;"><span style="font-size:10.0pt\;">Advance Wire Products Ltd. </span></span></li>\n	<li><span style="font-family:arial\;"><span style="font-size:10.0pt\;">My Shanti</span></span></li>\n	<li><span style="font-family:arial\;"><span style="font-size:10.0pt\;">Pacific Oral Health Society</span></span></li>\n</ol>\n<strong><span style="font-family:arial\;"><span style="font-size:10.0pt\;">Industries: </span></span></strong><span style="font-family:arial\;"><span style="font-size:10.0pt\;">Hospitality / Manufacturing / Health</span></span><br />\n<strong><span style="font-family:arial\;"><span style="font-size:10.0pt\;">Areas:</span></span></strong><span style="font-family:arial\;"><span style="font-size:10.0pt\;">&nbsp\; Campbell Heights\; South Surrey\; Cloverdale</span></span><br />\n&nbsp\;<br />\n<strong><u><span style="font-family:arial\;"><span style="font-size:10.0pt\;">Bus Three:</span></span></u></strong>\n\n<ol>\n	<li><span style="font-family:arial\;"><span style="font-size:10.0pt\;">Central City Brewers &amp\; Distillers (new location!)</span></span></li>\n	<li><span style="font-family:arial\;"><span style="font-size:10.0pt\;">Laser Valley Technologies</span></span></li>\n	<li><span style="font-family:arial\;"><span style="font-size:10.0pt\;">Astrographic Industries Ltd.</span></span></li>\n	<li><span style="font-family:arial\;"><span style="font-size:10.0pt\;">Heppell&rsquo\;s Farm</span></span></li>\n</ol>\n<strong><span style="font-family:arial\;"><span style="font-size:10.0pt\;">Industries: </span></span></strong><span style="font-family:arial\;"><span style="font-size:10.0pt\;">Hospitality / Manufacturing / Agriculture</span></span><br />\n<strong><span style="font-family:arial\;"><span style="font-size:10.0pt\;">Areas:</span></span></strong><span style="font-family:arial\;"><span style="font-size:10.0pt\;">&nbsp\; Bridgeview\; Port Kells\; Cloverdale</span></span><br />\n&nbsp\;<br />\n<strong><u><span style="font-family:arial\;"><span style="font-size:10.0pt\;">Helpful Hints!</span></span></u></strong>\n\n<ul>\n	<li style="margin-top:0cm\;margin-right:0cm\;margin-bottom:0cm\;margin-bottom:.0001pt\;font-size:12.0pt\;font-family:Times New Roman\;"><span style="font-family:arial\;"><span style="font-size:10.0pt\;">Some tour stops will be manufacturing plants\, farms\, constructions sites &ndash\; we recommend you wear comfortable\, close-toed shoes!</span></span></li>\n	<li style="margin-top:0cm\;margin-right:0cm\;margin-bottom:0cm\;margin-bottom:.0001pt\;font-size:12.0pt\;font-family:Times New Roman\;"><span style="font-family:arial\;"><span style="font-size:10.0pt\;">Bring your business cards for networking on your bus! </span></span></li>\n</ul>\n<br />\n&nbsp\;
LOCATION:Start at the Surrey Board of Trade 101 - 14439 104th Ave Surrey\, BC
UID:e.749.2572
SEQUENCE:3
DTSTAMP:20260425T213207Z
URL:https://business.swrbot.com/events/details/may-2-2014-surrey-board-of-trade-tour-of-industry-05-02-2014-2572
END:VEVENT

END:VCALENDAR
