BEGIN:VCALENDAR
VERSION:2.0
PRODID:-//ChamberMaster//Event Calendar 2.0//EN
METHOD:PUBLISH
X-PUBLISHED-TTL:P3D
REFRESH-INTERVAL:P3D
CALSCALE:GREGORIAN
BEGIN:VEVENT
DTSTART:20150522T144500Z
DTEND:20150522T161500Z
X-MICROSOFT-CDO-ALLDAYEVENT:FALSE
SUMMARY:May 22\, 2015 - Surrey International Children's Festival Business VIP Reception
DESCRIPTION:You and a guest are invited to attend the City of Surrey and Surrey Board of Trade VIP Reception on Friday\, May 22nd from 7:45am to 9:15am at the Surrey Arts Centre (13750 88 Avenue- at Bear Creek Park) for a special breakfast and tour featuring the Surrey International Children's Festival. The Festival is the only international Arts and Culture event south of the Fraser River that is for children aged 1 month to 12 years old. This is part of Surrey's Creative Economy!\n\n\n\n7:45   8:15  Registration\, buffet breakfast\, mix and mingle.\n\n8:15   8:45  Formal program & Prize Giveaway\n\n8:45   9:15  Join Marnie Perrin\, Artistic Director of the Surrey International Children's Festival for a brief tour and to watch the Festival leap into action.\n\n\n\nVisionary Sponsor:  Envision Financial\n\nGovernment Sponsor: Canadian Heritage\n\nPerforming Arts Sponsor: Fortis BC\n\n\n\nArt Activity Sponsors:  Port Metro Vancouver\, Arts Umbrella\n\nVolunteer Sponsor: Kwantlen Polytechnic University\n\nPatrons of the Arts: Bing Thom Architects Inc.\, Home Depot\, Surrey Board of Trade\, Guildford Town Center\, CEFA\n\nMedia Sponsors: CTV Television\, 24 Hours Vancouver\, JRFM\, The Peak\, The Leader\, Peace Arch News\, REDFM\n\nFriends of the Festival: Surrey Fire Fighters' Charitable Society\, Surrey Arts Council\, Langley Times\, Miss 604\, North Surrey Lions Club\, Surrey Coffee News\, TJ's The Kiddies Store & Tim Hortons.\n\n\n\nMake a Memory Sponsors: Wales McLelland Construction\, Cobra Electric Ltd.\, Above Grade Level\, StreetSide Developments (BC) Ltd.\, PW Trenchless Construction\, Basalite Concrete Products\, Peterbilt Pacific Inc.\, Fleetwood Pediatric Dentistry\, Powertech Labs Inc.\, Bruce Ralston MLA Surrey-Whalley\, Harry Bains MLA Surrey-Newton\, Sue Hammell MLA Surrey-Green Timbres and Sabzi Mandi Supermarket.\n\n\n\n\n\nThe Surrey Board of Trade urges the business community to be a part of this impactful event by coming to this special VIP Reception as our guest.  See firsthand how this inspirational event makes a positive impact to Surrey citizens and businesses.
X-ALT-DESC;FMTTYPE=text/html:<span style="font-size:12px\;"><span style="font-family: arial\;"><span style="color: black\;">You and a guest are invited to attend the City of Surrey and Surrey Board of Trade VIP Reception on Friday\, May 2</span><span style="color: rgb(0\, 0\, 0)\;">2<sup>nd</sup> from <span data-term="goog_1661502506" style="border-bottom: 1px dashed rgb(204\, 204\, 204)\; position: relative\; top: -2px\; z-index: 0\;" tabindex="0"><span style="position: relative\; top: 2px\; z-index: -1\;">7:45am</span></span> to 9:15am at the Surrey Arts Centre (13750 88 Avenue- at Bear Creek Park) for a special breakfast and tour featuring the Surrey International Children&rsquo\;s Festival. The Festival is the only international Arts and Culture event south of the Fraser River that is for children aged 1 month to 12 years old. This is part of Surrey&#39\;s Creative Economy!</span><br />\n<br />\n<strong><span style="color: black\;"><span data-term="goog_1661502507" style="border-bottom: 1px dashed rgb(204\, 204\, 204)\; position: relative\; top: -2px\; z-index: 0\;" tabindex="0"><span style="position: relative\; top: 2px\; z-index: -1\;">7:45 &ndash\; 8:15</span></span>&nbsp\; Registration\, buffet breakfast\, mix and mingle.</span></strong><br />\n<strong><span style="color: black\;"><span data-term="goog_1661502508" style="border-bottom: 1px dashed rgb(204\, 204\, 204)\; position: relative\; top: -2px\; z-index: 0\;" tabindex="0"><span style="position: relative\; top: 2px\; z-index: -1\;">8:15 &ndash\; 8:45</span></span>&nbsp\; Formal program &amp\; Prize Giveaway</span></strong><br />\n<strong><span style="color: black\;"><span data-term="goog_1661502509" style="border-bottom: 1px dashed rgb(204\, 204\, 204)\; position: relative\; top: -2px\; z-index: 0\;" tabindex="0"><span style="position: relative\; top: 2px\; z-index: -1\;">8:45 &ndash\; 9:15</span></span>&nbsp\; Join Marnie Perrin\, Artistic Director of the Surrey International Children&rsquo\;s</span></strong><strong><span style="color: black\;"> Festival for a brief tour and to watch the Festival leap into action.</span></strong></span></span><br />\n<br />\n<strong><span style="border:none windowtext 1.0pt\;padding:0cm\;background:white\;"><span style="color:#444444\;"><span style="font-family:inherit\,serif\;"><span style="font-size:9.0pt\;">Visionary Sponsor:</span></span></span></span></strong><span style="border:none windowtext 1.0pt\;padding:0cm\;background:white\;"><span style="color:#444444\;"><span style="font-family:inherit\,serif\;"><span style="font-size:9.0pt\;">&nbsp\; Envision Financial</span></span></span></span><br />\n<strong><span style="border:none windowtext 1.0pt\;padding:0cm\;background:white\;"><span style="color:#444444\;"><span style="font-family:inherit\,serif\;"><span style="font-size:9.0pt\;">Government Sponsor:</span></span></span></span></strong>&nbsp\;<span style="border:none windowtext 1.0pt\;padding:0cm\;background:white\;"><span style="color:#444444\;"><span style="font-family:inherit\,serif\;"><span style="font-size:9.0pt\;">Canadian Heritage</span></span></span></span><br />\n<strong><span style="border:none windowtext 1.0pt\;padding:0cm\;background:white\;"><span style="color:#444444\;"><span style="font-family:inherit\,serif\;"><span style="font-size:9.0pt\;">Performing Arts Sponsor:</span></span></span></span></strong><span style="border:none windowtext 1.0pt\;padding:0cm\;background:white\;"><span style="color:#444444\;"><span style="font-family:inherit\,serif\;"><span style="font-size:9.0pt\;"> Fortis BC</span></span></span></span><br />\n<br />\n<strong><span style="border:none windowtext 1.0pt\;padding:0cm\;background:white\;"><span style="color:#444444\;"><span style="font-family:inherit\,serif\;"><span style="font-size:9.0pt\;">Art Activity Sponsors:</span></span></span></span></strong><span style="border:none windowtext 1.0pt\;padding:0cm\;background:white\;"><span style="color:#444444\;"><span style="font-family:inherit\,serif\;"><span style="font-size:9.0pt\;">&nbsp\; Port Metro Vancouver\, Arts Umbrella</span></span></span></span><br />\n<strong><span style="border:none windowtext 1.0pt\;padding:0cm\;background:white\;"><span style="color:#444444\;"><span style="font-family:inherit\,serif\;"><span style="font-size:9.0pt\;">Volunteer Sponsor:</span></span></span></span></strong>&nbsp\;<span style="border:none windowtext 1.0pt\;padding:0cm\;background:white\;"><span style="color:#444444\;"><span style="font-family:inherit\,serif\;"><span style="font-size:9.0pt\;">Kwantlen Polytechnic University</span></span></span></span><br />\n<span style="border:none windowtext 1.0pt\;padding:0cm\;background:white\;"><span style="color:#444444\;"><span style="font-family:inherit\,serif\;"><span style="font-size:9.0pt\;"><strong><span style="font-family:inherit\,serif\;">Patrons of the Arts:</span></strong></span>&nbsp\;Bing Thom Architects Inc.\, Home Depot\, Surrey Board of Trade\, Guildford Town Center\, CEFA</span></span></span><br />\n<strong><span style="border:none windowtext 1.0pt\;padding:0cm\;background:white\;"><span style="color:#444444\;"><span style="font-family:inherit\,serif\;"><span style="font-size:9.0pt\;">Media Sponsors:</span></span></span></span></strong>&nbsp\;<span style="border:none windowtext 1.0pt\;padding:0cm\;background:white\;"><span style="color:#444444\;"><span style="font-family:inherit\,serif\;"><span style="font-size:9.0pt\;">CTV Television\, 24 Hours Vancouver\, JRFM\, The Peak\,&nbsp\;The Leader\, Peace Arch News\, REDFM</span></span></span></span><br />\n<strong><span style="border:none windowtext 1.0pt\;padding:0cm\;background:white\;"><span style="color:#444444\;"><span style="font-family:inherit\,serif\;"><span style="font-size:9.0pt\;">Friends of the Festival:</span></span></span></span></strong>&nbsp\;<span style="border:none windowtext 1.0pt\;padding:0cm\;background:white\;"><span style="color:#444444\;"><span style="font-family:inherit\,serif\;"><span style="font-size:9.0pt\;">Surrey Fire Fighters&#39\; Charitable Society\, Surrey Arts Council\, Langley Times\, Miss 604\, North Surrey Lions Club\, Surrey Coffee News\, TJ&rsquo\;s The Kiddies Store &amp\; Tim Hortons.</span></span></span></span><br />\n<br />\n<strong><span style="border:none windowtext 1.0pt\;padding:0cm\;background:white\;"><span style="color:#444444\;"><span style="font-family:inherit\,serif\;"><span style="font-size:9.0pt\;">Make a Memory Sponsors:</span></span></span></span></strong>&nbsp\;<span style="border:none windowtext 1.0pt\;padding:0cm\;background:white\;"><span style="color:#444444\;"><span style="font-family:inherit\,serif\;"><span style="font-size:9.0pt\;">Wales McLelland Construction\, Cobra Electric Ltd.\, Above Grade Level\, StreetSide Developments (BC) Ltd.\, PW Trenchless Construction\, Basalite Concrete Products\, Peterbilt Pacific Inc.\, Fleetwood Pediatric Dentistry\, Powertech Labs Inc.\, Bruce Ralston MLA Surrey-Whalley\, Harry Bains MLA Surrey-Newton\, Sue Hammell MLA Surrey-Green Timbres and Sabzi Mandi Supermarket.</span></span></span></span><br />\n<br />\n<br />\n<span style="font-size:12px\;"><span style="font-family: arial\;"><span style="color: rgb(0\, 0\, 0)\; font-style: normal\; font-variant: normal\; font-weight: normal\; letter-spacing: normal\; line-height: normal\; text-align: start\; text-indent: 0px\; text-transform: none\; white-space: normal\; widows: 1\; word-spacing: 0px\; display: inline ! important\; float: none\; background-color: rgb(255\, 255\, 255)\;">The Surrey Board of Trade urges the business community to be a part of this impactful event by coming to this special VIP Reception as our guest.&nbsp\; See firsthand how this inspirational event makes a positive impact to Surrey citizens and businesses.&nbsp\; </span></span></span>
LOCATION:Surrey Arts Centre 13750 88 Ave Surrey\, BC
UID:e.749.3581
SEQUENCE:3
DTSTAMP:20260423T134337Z
URL:https://business.swrbot.com/events/details/may-22-2015-surrey-international-children-s-festival-business-vip-reception-05-22-2015-3581
END:VEVENT

END:VCALENDAR
