BEGIN:VCALENDAR
VERSION:2.0
PRODID:-//ChamberMaster//Event Calendar 2.0//EN
METHOD:PUBLISH
X-PUBLISHED-TTL:P3D
REFRESH-INTERVAL:P3D
CALSCALE:GREGORIAN
BEGIN:VEVENT
DTSTART:20140523T144500Z
DTEND:20140523T161500Z
X-MICROSOFT-CDO-ALLDAYEVENT:FALSE
SUMMARY:May 23\, 2014 - Surrey International Children's Festival Business VIP Reception
DESCRIPTION:Surrey International Children's Festival Business VIP Reception\n\n\n\nYou and a guest are invited to attend the Surrey Board of Trade VIP Reception on Friday\, May 23rd from 7:45am to 9:15am at the Surrey Arts Centre (13750 88 Avenue - at Bear Creek Park) for a special breakfast and tour featuring the Surrey International Children's Festival. The Festival is the only international Arts and Culture event south of the Fraser River that is for children aged 1 month to 12 years old. \n\n\n\n7:45   8:15                             Registration\, buffet breakfast\, mix and mingle.\n\n8:15   8:45                             Formal program & Prize Giveaway \n\n8:45   9:15                             Join Marnie Perrin\, Artistic Director of the Surrey International Children's\n\nFestival for a brief tour and to watch the Festival leap into action.\n\n\n\nThe Surrey International Children's Festival is supported by: \n\nPresenting Sponsor:  Envision Financial\n\nGovernment Sponsor: Canadian Heritage\n\nArt Activity Sponsors:  Port Metro Vancouver\, Safeway\, Arts Umbrella\n\nPatrons of the Arts: Bing Thom Architects Inc.\, Home Depot\, The Surrey Board of Trade\, Kwantlen Polytechnic University\n\nMedia Sponsors: CTV Television\, JR FM\, The Peak\, The Leader\, Peace Arch News\, RED FM\n\nFriends of the Festival: Dick's Lumber & Building Supplies\, Proscenium Architecture + Interiors Inc.\, Surrey Fire Fighters' Charitable Society\, The Cloverdale Rodeo\n\nMedia Sponsors: The Leader Newspaper\, Peace Arch News\, CTV\, 93.1 RedFM\, 102.7 The Peak\, 93.7 JR FM\n\nMake a Memory Sponsors: Wales McLelland Construction\, Cobra Electric Group\, Brabeia\, Dawn Wattie Law Corporation and many more!\n\n\n\nThe Surrey Board of Trade urges the business community to come to this special VIP Reception as our guest to see how this inspirational event makes a positive impact to Surrey.
X-ALT-DESC;FMTTYPE=text/html:<br />\n<span style="font-family:arial\;"><span style="font-size: 11pt\;">Surrey International Children&#39\;s Festival Business VIP Reception<br />\n<br />\nYou and a guest are invited to attend the Surrey Board of Trade VIP Reception on <span data-term="goog_38843385" tabindex="0">Friday</span></span>\, May 23rd <span style="font-size: 11pt\;">from <span data-term="goog_38843386" tabindex="0">7:45am</span></span> to 9:<span style="color: rgb(112\, 48\, 160)\;"><span style="font-size: 11pt\;">15</span></span><span style="font-size: 11pt\;">am</span><span style="font-size: 11pt\;"> at the Surrey Arts Centre (13750 88 Avenue - at Bear Creek Park) for a special breakfast and tour featuring the Surrey International Children&rsquo\;s Festival. The Festival is the only international Arts and Culture event south of the Fraser River that is for children aged 1 month to 12 years old. </span><br />\n<br />\n<strong><span data-term="goog_38843387" tabindex="0">7:45 &ndash\; 8:15</span>&nbsp\;&nbsp\;&nbsp\;&nbsp\;&nbsp\;&nbsp\;&nbsp\;&nbsp\;&nbsp\;&nbsp\;&nbsp\;&nbsp\;&nbsp\;&nbsp\;&nbsp\;&nbsp\;&nbsp\;&nbsp\;&nbsp\;&nbsp\;&nbsp\;&nbsp\;&nbsp\;&nbsp\;&nbsp\;&nbsp\;<wbr />&nbsp\;&nbsp\; Registration\, buffet breakfast\, mix and mingle.</strong><br />\n<strong><span data-term="goog_38843388" tabindex="0">8:15 &ndash\; 8:45</span>&nbsp\;&nbsp\;&nbsp\;&nbsp\;&nbsp\;&nbsp\;&nbsp\;&nbsp\;&nbsp\;&nbsp\;&nbsp\;&nbsp\;&nbsp\;&nbsp\;&nbsp\;&nbsp\;&nbsp\;&nbsp\;&nbsp\;&nbsp\;&nbsp\;&nbsp\;&nbsp\;&nbsp\;&nbsp\;&nbsp\;<wbr />&nbsp\;&nbsp\; Formal program &amp\; Prize Giveaway </strong><br />\n<strong><span data-term="goog_38843389" tabindex="0">8:45 &ndash\; 9:15</span>&nbsp\;&nbsp\;&nbsp\;&nbsp\;&nbsp\;&nbsp\;&nbsp\;&nbsp\;&nbsp\;&nbsp\; &nbsp\;&nbsp\; &nbsp\;&nbsp\;&nbsp\;&nbsp\;&nbsp\;&nbsp\;&nbsp\;&nbsp\;&nbsp\;&nbsp\;&nbsp\;&nbsp\;&nbsp\;&nbsp\; Join Marnie Perrin\, Artistic Director of the Surrey International Children&rsquo\;s</strong><br />\n<strong>Festival for a brief tour and to watch the Festival leap into action.</strong><br />\n<br />\n<span style="font-size: 11pt\;">The Surrey International Children&rsquo\;s Festival is supported by: </span><br />\n<strong><span style="font-size: 11pt\;">Presenting Sponsor:</span></strong><span style="font-size: 11pt\;"> &nbsp\;Envision Financial</span><br />\n<strong><span style="font-size: 11pt\;">Government Sponsor:</span></strong><span style="font-size: 11pt\;"> Canadian Heritage</span><br />\n<strong><span style="font-size: 11pt\;">Art Activity Sponsors:</span></strong><span style="font-size: 11pt\;">&nbsp\; Port Metro Vancouver\, Safeway\, Arts Umbrella<br />\n<strong>Patrons of the Arts:</strong> Bing Thom Architects Inc.\, Home Depot\, The Surrey Board of Trade\, Kwantlen Polytechnic University</span><br />\n<strong><span style="font-size: 11pt\;">Media Sponsors:</span></strong><span style="font-size: 11pt\;"> CTV Television\, JR FM\, The Peak\, </span>The Leader\, Peace Arch News\, RED FM<br />\n<strong><span style="font-size: 11pt\;">Friends of the Festival: </span></strong><span style="font-size: 11pt\;">Dick&#39\;s Lumber &amp\; Building Supplies\, Proscenium Architecture + Interiors Inc.\, Surrey Fire Fighters&#39\; Charitable Society\, The Cloverdale Rodeo</span><br />\n<strong><span style="font-size: 11pt\;">Media Sponsors: </span></strong><span style="font-size: 11pt\;">The Leader Newspaper\, Peace Arch News\, CTV\, 93.1 RedFM\, 102.7 The Peak\, 93.7 JR FM</span><br />\n<strong><span style="font-size: 11pt\;">Make a Memory Sponsors: </span></strong><span style="font-size: 11pt\;">Wales McLelland Construction\, Cobra Electric Group\, Brabeia\, Dawn Wattie Law Corporation and many more!</span></span><br />\n<br />\n<span style="font-family:calibri\;"><span style="font-size:11pt\;"><span style="font-family:arial\;">The Surrey Board of Trade urges the business community to come to this special VIP Reception as our guest to see how this inspirational event makes a positive impact to Surrey.&nbsp\; </span></span></span><br />\n<br />\n&nbsp\;
LOCATION:Surrey Arts Centre 13750 88 Ave Surrey\, BC
UID:e.749.2637
SEQUENCE:3
DTSTAMP:20260425T213259Z
URL:https://business.swrbot.com/events/details/may-23-2014-surrey-international-children-s-festival-business-vip-reception-05-23-2014-2637
END:VEVENT

END:VCALENDAR
