BEGIN:VCALENDAR
VERSION:2.0
PRODID:-//ChamberMaster//Event Calendar 2.0//EN
METHOD:PUBLISH
X-PUBLISHED-TTL:P3D
REFRESH-INTERVAL:P3D
CALSCALE:GREGORIAN
BEGIN:VEVENT
DTSTART:20180524T003000Z
DTEND:20180524T023000Z
X-MICROSOFT-CDO-ALLDAYEVENT:FALSE
SUMMARY:May 23\, 2018 - Surrey International Children's Festival VIP Reception
DESCRIPTION:You and a guest are invited to attend the Surrey Board of Trade VIP Business Reception on Wednesday\, May 23  from 5:30 p.m. to 7:30 p.m. at the Surrey Arts Centre (13750 88 Avenue- at Bear Creek Park) for a special networking reception and tour featuring the Surrey International Children's Festival. The Festival is the only International Arts and Culture event south of the Fraser River that is for children aged 1 month to 12 years old. \n\n\n\nThe Surrey Board of Trade asks you to be a part of this impactful event by attending this special VIP Reception as our guest.  See firsthand how this inspirational event creates a positive impact to Surrey citizens and businesses.
X-ALT-DESC;FMTTYPE=text/html:<span style="font-size:16px\;"><span style="font-family: arial\;"><span style="color: black\;">You and a guest are invited to attend the Surrey Board of Trade VIP Business Reception <span class="aBn" data-term="goog_445044172" tabindex="0"><span class="aQJ">on Wednesday</span></span>\, May </span><span style="color: black\;">23</span><span style="color: black\;"><sup>&nbsp\;</sup></span> from 5<span style="color: black\;">:30 p.m. to 7:30</span><span style="color: black\;">&nbsp\;p.m.</span><span style="color: black\;"> at the Surrey Arts Centre (13750 88 Avenue- at Bear Creek Park) for a special networking reception and tour featuring the </span>Surrey International Children&rsquo\;s <span style="color: black\;">Festival. The Festival is the only International Arts and Culture event south of the Fraser River that is for children aged 1 month to 12 years old. </span></span><br />\n<br />\n<span style="color: black\;"><span style="font-family: calibri\;"><span style="font-family: arial\;">The Surrey Board of Trade asks you to be a part of this impactful event by attending this special VIP Reception as our guest.&nbsp\; See firsthand how this inspirational event creates a positive impact to Surrey citizens and businesses.</span>&nbsp\; </span></span></span>
LOCATION:Surrey Art Gallery & Surrey Arts Centre\, 13750 88 Ave\, Surrey\, BC V3W 3L1
UID:e.749.6784
SEQUENCE:3
DTSTAMP:20260421T103202Z
URL:https://business.swrbot.com/events/details/may-23-2018-surrey-international-children-s-festival-vip-reception-05-23-2018-6784
END:VEVENT

END:VCALENDAR
