BEGIN:VCALENDAR
VERSION:2.0
PRODID:-//ChamberMaster//Event Calendar 2.0//EN
METHOD:PUBLISH
X-PUBLISHED-TTL:P3D
REFRESH-INTERVAL:P3D
CALSCALE:GREGORIAN
BEGIN:VEVENT
DTSTART:20170524T144500Z
DTEND:20170524T170000Z
X-MICROSOFT-CDO-ALLDAYEVENT:FALSE
SUMMARY:May 24\, 2017 - Making Sense of Social Media Marketing for Business
DESCRIPTION:Making Sense of Social Media Marketing for Business\n\nMay 24\, 2017\n\n\n\nMany companies struggle with trying to be on every social media channel\, content creation\, keeping up with posting\, and not seeing a high enough return on investment with their social media marketing. We will discuss your ideal client and where and how you can meet them online without burning out or losing their attention. We will also cover data analytics in social media and why they are important to you and your investment of time\, effort\, and money. You will leave feeling more confident about:\n\n \n        Who your target audience is (picture of an ideal client)\n\n \n\n        Where your business needs to be in the world of Social Media Marketing\n\n \n\n        Where to find the analytics and what they mean\n\n \n\nFacilitated by Karina Cebuliak of Fox Street Solutions Inc.
X-ALT-DESC;FMTTYPE=text/html:<strong><span style="color:#222222\;"><span style="font-family:arial\;"><span style="font-size:9pt\;">Making Sense of Social Media Marketing for Business</span></span></span></strong><br />\n<strong><span style="color:#222222\;"><span style="font-family:arial\;"><span style="font-size:9pt\;">May 24\, </span></span></span></strong><strong><span style="color:#222222\;"><span style="font-family:arial\;"><span style="font-size:9pt\;">2017</span></span></span></strong><br />\n<br />\n<span lang="EN-CA" style="font-size:9pt\;font-family:arial\;color:rgb(34\,34\,34)">Many companies struggle with trying to be on every social media channel\, content creation\, keeping up with posting\, and not seeing a high enough return on investment with their social media marketing. We will discuss your ideal client and where and how you can meet them online without burning out or losing their attention. We will also cover data analytics in social media and why they are important to you and your investment of time\, effort\, and money. You will leave feeling more confident about:</span><br />\n&nbsp\;\n<p class="m_-4053770914866997705gmail-MsoListParagraphCxSpFirst" style="margin:0cm 0cm 0.0001pt 38.5pt\;line-height:normal\;background:white none repeat scroll 0% 0%"><span lang="EN-CA" style="font-size:9pt\;font-family:symbol\;color:rgb(34\,34\,34)"><span>&middot\;<span style="font:7pt &quot\;times new roman&quot\;">&nbsp\;&nbsp\;&nbsp\;&nbsp\;&nbsp\;&nbsp\; </span></span></span><span lang="EN-CA" style="font-size:9pt\;font-family:arial\;color:rgb(34\,34\,34)">Who your target audience is (picture of an ideal client)</span><br />\n&nbsp\;</p>\n\n<p class="m_-4053770914866997705gmail-MsoListParagraphCxSpMiddle" style="margin:0cm 0cm 0.0001pt 38.5pt\;line-height:normal\;background:white none repeat scroll 0% 0%"><span lang="EN-CA" style="font-size:9pt\;font-family:symbol\;color:rgb(34\,34\,34)"><span>&middot\;<span style="font:7pt &quot\;times new roman&quot\;">&nbsp\;&nbsp\;&nbsp\;&nbsp\;&nbsp\;&nbsp\; </span></span></span><span lang="EN-CA" style="font-size:9pt\;font-family:arial\;color:rgb(34\,34\,34)">Where your business needs to be in the world of Social Media Marketing</span><br />\n&nbsp\;</p>\n\n<p class="m_-4053770914866997705gmail-MsoListParagraphCxSpLast" style="margin:0cm 0cm 0.0001pt 38.5pt\;line-height:normal\;background:white none repeat scroll 0% 0%"><span lang="EN-CA" style="font-size:9pt\;font-family:symbol\;color:rgb(34\,34\,34)"><span>&middot\;<span style="font:7pt &quot\;times new roman&quot\;">&nbsp\;&nbsp\;&nbsp\;&nbsp\;&nbsp\;&nbsp\; </span></span></span><span lang="EN-CA" style="font-size:9pt\;font-family:arial\;color:rgb(34\,34\,34)">Where to find the analytics and what they mean</span></p>\n\n<p class="m_-4053770914866997705gmail-MsoListParagraphCxSpLast" style="margin:0cm 0cm 0.0001pt 38.5pt\;line-height:normal\;background:white none repeat scroll 0% 0%">&nbsp\;</p>\n\n<p class="m_-4053770914866997705gmail-MsoListParagraphCxSpLast" style="margin:0cm 0cm 0.0001pt 38.5pt\;line-height:normal\;background:white none repeat scroll 0% 0%"><span lang="EN-CA" style="font-size:9pt\;font-family:arial\;color:rgb(34\,34\,34)"><i><b>Facilitated by Karina Cebuliak of Fox Street Solutions Inc.</b></i></span></p>\n
LOCATION:Surrey Board of Trade 101\, 14439 104th Avenue\, Surrey
UID:e.749.5303
SEQUENCE:3
DTSTAMP:20260422T024447Z
URL:https://business.swrbot.com/events/details/may-24-2017-making-sense-of-social-media-marketing-for-business-05-24-2017-5303
END:VEVENT

END:VCALENDAR
