BEGIN:VCALENDAR
VERSION:2.0
PRODID:-//ChamberMaster//Event Calendar 2.0//EN
METHOD:PUBLISH
X-PUBLISHED-TTL:P3D
REFRESH-INTERVAL:P3D
CALSCALE:GREGORIAN
BEGIN:VEVENT
DTSTART:20170525T144500Z
DTEND:20170525T161500Z
X-MICROSOFT-CDO-ALLDAYEVENT:FALSE
SUMMARY:May 25\, 2017 - Surrey International Children's Festival VIP Breakfast
DESCRIPTION:You and a guest are invited to attend the Surrey Board of Trade VIP Business Reception on Thursday\, May 25  from 7:45 am to 9:15 am at the Surrey Arts Centre (13750 88 Avenue- at Bear Creek Park) for a special breakfast and tour featuring the Surrey International Children's Festival. The Festival is the only international Arts and Culture event south of the Fraser River that is for children aged 1 month to 12 years old. \n\n\n\nThe Surrey Board of Trade asks you to be a part of this impactful event by attending this special VIP Reception as our guest.  See firsthand how this inspirational event makes a positive impact to Surrey citizens and businesses.
X-ALT-DESC;FMTTYPE=text/html:<span style="font-size:12px\;"><span style="font-family: arial\;"><span style="color: black\;">You and a guest are invited to attend the Surrey Board of Trade VIP Business Reception <span class="aBn" data-term="goog_445044172" tabindex="0"><span class="aQJ">on Thursday</span></span>\, May </span><span style="color: black\;">25</span><span style="color: black\;"><sup>&nbsp\;</sup></span> from <span style="color: black\;">7:45 am to 9:</span><span style="color: rgb(112\, 48\, 160)\;">15</span><span style="color: black\;"> am</span><span style="color: black\;"> at the Surrey Arts Centre (13750 88 Avenue- at Bear Creek Park) for a special breakfast and tour featuring the </span>Surrey International Children&rsquo\;s <span style="color: black\;">Festival. The Festival is the only international Arts and Culture event south of the Fraser River that is for children aged 1 month to 12 years old. </span></span></span><br />\n<br />\n<span style="color:black\;"><span style="font-family:calibri\;"><span style="font-size:11pt\;"><span style="font-size:12px\;"><span style="font-family: arial\;">The Surrey Board of Trade asks you to be a part of this impactful event by attending this special VIP Reception as our guest.&nbsp\; See firsthand how this inspirational event makes a positive impact to Surrey citizens and businesses.</span></span>&nbsp\; </span></span></span>
LOCATION:
UID:e.749.5194
SEQUENCE:3
DTSTAMP:20260422T013507Z
URL:https://business.swrbot.com/events/details/may-25-2017-surrey-international-children-s-festival-vip-breakfast-05-25-2017-5194
END:VEVENT

END:VCALENDAR
