BEGIN:VCALENDAR
VERSION:2.0
PRODID:-//ChamberMaster//Event Calendar 2.0//EN
METHOD:PUBLISH
X-PUBLISHED-TTL:P3D
REFRESH-INTERVAL:P3D
CALSCALE:GREGORIAN
BEGIN:VEVENT
DTSTART:20150527T150000Z
DTEND:20150527T170000Z
X-MICROSOFT-CDO-ALLDAYEVENT:FALSE
SUMMARY:May 27\, 2015 - Scientific Research & Experimental Development Tax Incentive Workshop
DESCRIPTION:Scientific Research & Experimental Development Tax Incentive Workshop\n\n\nThe Scientific Research and Experimental Development (SR&ED) Program is a federal tax incentive program\, administered by the Canada Revenue Agency (CRA)\, that encourages Canadian businesses of all sizes\, and in all sectors to conduct Research and Development (R&D) in Canada. It is the largest single source of federal government support for industrial R&D.\n\nThe SR&ED Program gives claimants cash refunds and / or tax credits for their expenditures on eligible R&D work done in Canada.\n\nAt this workshop you will gain:\n\n\n	Clear explanations of the paperwork involved.\n	Direction from the CRA on what is important to include in your SR&ED application.\n	An opportunity to ask CRA auditors how the refund is calculated.\n	Contacts at the CRA for future inquiries.\n\n\nPresented in partnership by Grant Gilmour of Gilmour Knotts Chartered Accountants\, and the Canada Revenue Agency.
X-ALT-DESC;FMTTYPE=text/html:<div style="font-size: 13px\; font-family: arial\, sans-serif\;"><b>Scientific Research &amp\; Experimental Development Tax Incentive Workshop</b></div>\n\n<div>\n<p style="color: rgb(34\, 34\, 34)\; font-family: arial\, sans-serif\; font-style: normal\; font-variant: normal\; font-weight: normal\; letter-spacing: normal\; line-height: normal\; orphans: auto\; text-align: start\; text-indent: 0px\; text-transform: none\; white-space: normal\; widows: auto\; word-spacing: 0px\; -webkit-text-stroke-width: 0px\; font-size: 13px\; background-color: rgb(255\, 255\, 255)\;">The Scientific Research and Experimental Development (SR&amp\;ED) Program is a federal tax incentive program\, administered by the Canada Revenue Agency (CRA)\, that encourages Canadian businesses of all sizes\, and in all sectors to conduct Research and Development (R&amp\;D) in Canada. It is the largest single source of federal government support for industrial R&amp\;D.</p>\n\n<p style="color: rgb(34\, 34\, 34)\; font-family: arial\, sans-serif\; font-style: normal\; font-variant: normal\; font-weight: normal\; letter-spacing: normal\; line-height: normal\; orphans: auto\; text-align: start\; text-indent: 0px\; text-transform: none\; white-space: normal\; widows: auto\; word-spacing: 0px\; -webkit-text-stroke-width: 0px\; font-size: 13px\; background-color: rgb(255\, 255\, 255)\;">The SR&amp\;ED Program gives claimants cash refunds and / or tax credits for their expenditures on eligible R&amp\;D work done in Canada.</p>\n\n<p style="color: rgb(34\, 34\, 34)\; font-family: arial\, sans-serif\; font-style: normal\; font-variant: normal\; font-weight: normal\; letter-spacing: normal\; line-height: normal\; orphans: auto\; text-align: start\; text-indent: 0px\; text-transform: none\; white-space: normal\; widows: auto\; word-spacing: 0px\; -webkit-text-stroke-width: 0px\; font-size: 13px\; background-color: rgb(255\, 255\, 255)\;"><b>At this workshop you will gain:</b></p>\n\n<ul>\n	<li style="color: rgb(34\, 34\, 34)\; font-family: arial\,sans-serif\; font-style: normal\; font-variant: normal\; font-weight: normal\; letter-spacing: normal\; line-height: normal\; text-align: start\; text-indent: 0px\; text-transform: none\; white-space: normal\; word-spacing: 0px\; font-size: 13px\; background-color: rgb(255\, 255\, 255)\;"><b>Clear explanations of the paperwork involved.</b></li>\n	<li style="color: rgb(34\, 34\, 34)\; font-family: arial\,sans-serif\; font-style: normal\; font-variant: normal\; font-weight: normal\; letter-spacing: normal\; line-height: normal\; text-align: start\; text-indent: 0px\; text-transform: none\; white-space: normal\; word-spacing: 0px\; font-size: 13px\; background-color: rgb(255\, 255\, 255)\;"><b>Direction from the CRA on what is important to include in your SR&amp\;ED application.</b></li>\n	<li style="color: rgb(34\, 34\, 34)\; font-family: arial\,sans-serif\; font-style: normal\; font-variant: normal\; font-weight: normal\; letter-spacing: normal\; line-height: normal\; text-align: start\; text-indent: 0px\; text-transform: none\; white-space: normal\; word-spacing: 0px\; font-size: 13px\; background-color: rgb(255\, 255\, 255)\;"><b>An opportunity to ask CRA auditors how the refund is calculated.</b></li>\n	<li style="color: rgb(34\, 34\, 34)\; font-family: arial\,sans-serif\; font-style: normal\; font-variant: normal\; font-weight: normal\; letter-spacing: normal\; line-height: normal\; text-align: start\; text-indent: 0px\; text-transform: none\; white-space: normal\; word-spacing: 0px\; font-size: 13px\; background-color: rgb(255\, 255\, 255)\;"><b>Contacts at the CRA for future inquiries.</b></li>\n</ul>\n\n<p style="color: rgb(34\, 34\, 34)\; font-family: arial\, sans-serif\; font-style: normal\; font-variant: normal\; font-weight: normal\; letter-spacing: normal\; line-height: normal\; orphans: auto\; text-align: start\; text-indent: 0px\; text-transform: none\; white-space: normal\; widows: auto\; word-spacing: 0px\; -webkit-text-stroke-width: 0px\; font-size: 13px\; background-color: rgb(255\, 255\, 255)\;">Presented in partnership by Grant Gilmour of Gilmour Knotts Chartered Accountants\, and the Canada Revenue Agency.</p>\n</div>\n
LOCATION:Surrey Board of Trade Conference Room 101 - 14439 104 Ave Surrey\, BC
UID:e.749.3555
SEQUENCE:3
DTSTAMP:20260423T133338Z
URL:https://business.swrbot.com/events/details/may-27-2015-scientific-research-experimental-development-tax-incentive-workshop-05-27-2015-3555
END:VEVENT

END:VCALENDAR
