BEGIN:VCALENDAR
VERSION:2.0
PRODID:-//ChamberMaster//Event Calendar 2.0//EN
METHOD:PUBLISH
X-PUBLISHED-TTL:P3D
REFRESH-INTERVAL:P3D
CALSCALE:GREGORIAN
BEGIN:VEVENT
DTSTART:20160527T144500Z
DTEND:20160527T161500Z
X-MICROSOFT-CDO-ALLDAYEVENT:FALSE
SUMMARY:May 27\, 2016 Surrey International Children's Festival VIP Breakfast
DESCRIPTION:You and a guest are invited to attend the Surrey Board of Trade VIP Business Reception on Friday\, May 27  from 7:45am to 9:15am at the Surrey Arts Centre (13750 88 Avenue- at Bear Creek Park) for a special breakfast and tour featuring the Surrey International Children's Festival. The Festival is the only international Arts and Culture event south of the Fraser River that is for children aged 1 month to 12 years old. \n\n\n\nThe Surrey International Children's Festival is supported by: \n\nVisionary Sponsor:  Envision Financial\n\nGovernment Sponsor: Canadian Heritage\n\nArt Activity Sponsors:  Port Metro Vancouver\, Arts Umbrella\n\nVolunteer Sponsor: Kwantlen Polytechnic University\n\nPatrons of the Arts: FortisBC\, Bing Thom Architects Inc.\, The Surrey Board of Trade\n\nMedia Sponsors: CTV Television\, JR FM\, The Peak\, The Leader\, Peace Arch News\, RED FM\n\nFriends of the Festival: Dick's Lumber & Building Supplies\, Surrey Fire Fighters' Charitable Society\n\nMedia Sponsors: The Leader Newspaper\, Peace Arch News\, CTV\, 93.1 RedFM\, 102.7 The PEAK\, 93.7 JR FM\, & 24Hours\n\nMake a Memory Sponsors: Guildford Town Centre\, Wales McLelland Construction\, Cobra Electric Group\, Basalite Concrete Products\,\n\nFleetwood Pediatric Dentistry\, Peterbilt Pacific Ltd.\, Powertech Labs\, Inc.\, Streetside Developments\, Ltd.\, and many more!\n\n\n\nThe Surrey Board of Trade asks you to be a part of this impactful event by attending this special VIP Reception as our guest.  See firsthand how this inspirational event makes a positive impact to Surrey citizens and businesses.
X-ALT-DESC;FMTTYPE=text/html:<p><span style="font-size:12px\;"><span style="font-family: arial\;"><span style="color: black\;">You and a guest are invited to attend the Surrey Board of Trade VIP Business Reception <span class="aBn" data-term="goog_445044172" tabindex="0"><span class="aQJ">on Friday</span></span>\, May </span><span style="color: black\;">27</span><span style="color: black\;"><sup>&nbsp\;</sup></span> from <span style="color: black\;">7:45am to 9:</span><span style="color: rgb(112\, 48\, 160)\;">15</span><span style="color: black\;">am</span><span style="color: black\;"> at the Surrey Arts Centre (13750 88 Avenue- at Bear Creek Park) for a special breakfast and tour featuring the </span>Surrey International Children&rsquo\;s <span style="color: black\;">Festival. The Festival is the only international Arts and Culture event south of the Fraser River that is for children aged 1 month to 12 years old. </span><br />\n<br />\n<span style="color: black\;">The Surrey International Children&rsquo\;s Festival is supported by: </span><br />\n<strong>Visionary Sponsor:</strong>&nbsp\; Envision Financial<br />\n<strong>Government Sponsor:</strong> Canadian Heritage<br />\n<strong>Art Activity Sponsors:</strong>&nbsp\; Port Metro Vancouver\, Arts Umbrella<br />\n<strong>Volunteer Sponsor:</strong> Kwantlen Polytechnic University<br />\n<strong>Patrons of the Arts:</strong> FortisBC\, Bing Thom Architects Inc.\, The Surrey Board of Trade<br />\n<strong>Media Sponsors:</strong> CTV Television\, JR FM\, The Peak\, The Leader\, Peace Arch News\, RED FM<br />\n<strong>Friends of the Festival: </strong>Dick&#39\;s Lumber &amp\; Building Supplies\, Surrey Fire Fighters&#39\; Charitable Society<br />\n<strong>Media Sponsors: </strong>The Leader Newspaper\, Peace Arch News\, CTV\, 93.1 RedFM\, 102.7 The PEAK\, 93.7 JR FM\, &amp\; 24Hours<br />\n<strong>Make a Memory Sponsors: </strong>Guildford Town Centre\, Wales McLelland Construction\, Cobra Electric Group\, Basalite Concrete Products\,<br />\nFleetwood Pediatric Dentistry\, Peterbilt Pacific Ltd.\, Powertech Labs\, Inc.\, Streetside Developments\, Ltd.\, and many more!</span></span><br />\n<br />\n<span style="color:black\;"><span style="font-family:calibri\;"><span style="font-size:11pt\;"><span style="font-size:12px\;"><span style="font-family: arial\;">The Surrey Board of Trade asks you to be a part of this impactful event by attending this special VIP Reception as our guest.&nbsp\; See firsthand how this inspirational event makes a positive impact to Surrey citizens and businesses.</span></span>&nbsp\; </span></span></span></p>\n
LOCATION:
UID:e.749.4919
SEQUENCE:3
DTSTAMP:20260424T083328Z
URL:https://business.swrbot.com/events/details/may-27-2016-surrey-international-children-s-festival-vip-breakfast-05-27-2016-4919
END:VEVENT

END:VCALENDAR
