BEGIN:VCALENDAR
VERSION:2.0
PRODID:-//ChamberMaster//Event Calendar 2.0//EN
METHOD:PUBLISH
X-PUBLISHED-TTL:P3D
REFRESH-INTERVAL:P3D
CALSCALE:GREGORIAN
BEGIN:VEVENT
DTSTART:20140529T003000Z
DTEND:20140529T023000Z
X-MICROSOFT-CDO-ALLDAYEVENT:FALSE
SUMMARY:May 28\, 2014 - Business to Business Reception at Semiahmoo House Society
DESCRIPTION:Business to Business Reception at Semiahmoo House Society   \n\n \nJoin us to network with people in our community and enjoy the hospitality of Semiahmoo House Society's catering crew. You will be able to tour The Treehouse and learn about the Semiahmoo House Society's plans for a truly inclusive community.\n\n\n\nSemiahmoo House Society is a community living organization providing services to people with developmental disabilities and their families in Surrey and White Rock.\n\n\n\nThe Surrey Board of Trade presented Semiahmoo House Society with the 2013 Surrey Business Excellence Award for Non-for-Profit of the Year.\n\n\n\nWin Great Prizes!  Make new business contacts!\n\n \nCo-Hosted by the South Surrey & White Rock Chamber of Commerce\n\n\n\nParking available at the back of the building and on both paved and gravel parking lots with additional parking along 153rd Street.
X-ALT-DESC;FMTTYPE=text/html:<strong>Business to Business Reception at Semiahmoo House Society&nbsp\;&nbsp\;&nbsp\;</strong><br />\n&nbsp\;\n<div>Join us to network with people in our community and enjoy the hospitality of Semiahmoo House Society&rsquo\;s catering crew. You will be able to tour The Treehouse and learn about the Semiahmoo House Society&rsquo\;s plans for a truly inclusive community.<br />\n<br />\nSemiahmoo House Society is a community living organization providing services to people with developmental disabilities and their families in Surrey and White Rock.<br />\n<br />\nThe Surrey Board of Trade presented Semiahmoo House Society with the 2013 Surrey Business Excellence Award for Non-for-Profit of the Year.<br />\n<br />\nWin Great Prizes!&nbsp\; Make new business contacts!<br />\n&nbsp\;</div>\nCo-Hosted by the South Surrey &amp\; White Rock Chamber of Commerce<br />\n<br />\nParking available at the back of the building and on both paved and gravel parking lots with additional parking along 153rd Street.<br />\n&nbsp\;
LOCATION:Semiahmoo House Society 15306 24th Ave Surrey\, BC
UID:e.749.2504
SEQUENCE:3
DTSTAMP:20260425T213259Z
URL:https://business.swrbot.com/events/details/may-28-2014-business-to-business-reception-at-semiahmoo-house-society-05-28-2014-2504
END:VEVENT

END:VCALENDAR
