BEGIN:VCALENDAR
VERSION:2.0
PRODID:-//ChamberMaster//Event Calendar 2.0//EN
METHOD:PUBLISH
X-PUBLISHED-TTL:P3D
REFRESH-INTERVAL:P3D
CALSCALE:GREGORIAN
BEGIN:VEVENT
DTSTART:20150529T003000Z
DTEND:20150529T030000Z
X-MICROSOFT-CDO-ALLDAYEVENT:FALSE
SUMMARY:May 28\, 2015 - Top 25 Under 25 Awards
DESCRIPTION:
X-ALT-DESC;FMTTYPE=text/html:
LOCATION:Eaglequest Coyote Creek - 7778 152 Street\, Surrey
UID:e.749.2837
SEQUENCE:3
DTSTAMP:20260423T133342Z
URL:https://business.swrbot.com/events/details/may-28-2015-top-25-under-25-awards-05-28-2015-2837
END:VEVENT

END:VCALENDAR
