BEGIN:VCALENDAR
VERSION:2.0
PRODID:-//ChamberMaster//Event Calendar 2.0//EN
METHOD:PUBLISH
X-PUBLISHED-TTL:P3D
REFRESH-INTERVAL:P3D
CALSCALE:GREGORIAN
BEGIN:VEVENT
DTSTART:20140504T020000Z
DTEND:20140504T060000Z
X-MICROSOFT-CDO-ALLDAYEVENT:FALSE
SUMMARY:May 3\, 2014- Zajac Nights
DESCRIPTION:ZAJAC NIGHTS \n\nTICKETS ON SALE NOW! www.guestmanager.com/zajacnights \n\nThe Zajac Foundation is excited to continue the tradition of redefining what a charitable gala should be in Vancouver with Zajac Nights on Saturday\, May 3rd at the Vancouver Club. Long gone are the days of stuffy charity events with long dinners and low energy. \n\n\n\nOur guests will enjoy all the food and drinks they desire as they explore the Vancouver Club under our unique party theme: "A Year in a Night." Guests can watch the ball drop every hour on the hour in the New Year's Eve Ballroom\, or grab their special someone and run off to the Valentine's Day Lounge and enjoy the chocolate fountain. After a couple drinks\, you can let out your inner Irishman and climb up to the St. Paddy's Day room on the third floor. This party will have 6 different holidays in 6 different rooms\,\n\n+ a rooftop Mardi Gras experience for our VIP guests.\n\nYou can see our video from last year's event\, and further details on this year's gala including ticket purchasing on our website http://zajacnights.com.\n\nAll proceeds raised will benefit Zajac Ranch for Children\, a medical summer camp for children with chronic\, life threatening and/or debilitating conditions. Further information on Zajac Ranch can be found at www.zajacranch.com.
X-ALT-DESC;FMTTYPE=text/html:<p>ZAJAC NIGHTS<span style="FONT-SIZE:10pt"> </span></p>\n\n<p><span style="FONT-SIZE:10pt">TICKETS ON SALE NOW! <a href="http://www.guestmanager.com/zajacnights" target="_blank">www.guestmanager.com/<wbr />zajacnights</a> </span></p>\n\n<p><span style="FONT-SIZE:10pt">The Zajac Foundation is excited to continue the tradition of redefining what a charitable gala should be in Vancouver with Zajac Nights on <span class="aBn" data-term="goog_1232865011" tabindex="0"><span class="aQJ">Saturday\, May 3rd</span></span> at the Vancouver Club. Long gone are the days of stuffy charity events with long dinners and low energy. </span><br />\n<br />\n<span style="FONT-SIZE:10pt">Our guests will enjoy all the food and drinks they desire as they explore the Vancouver Club under our unique party theme: &ldquo\;A Year in a Night.&rdquo\; Guests can watch the ball drop every hour on the hour in the New Year&rsquo\;s Eve Ballroom\, or grab their special someone and run off to the Valentine&rsquo\;s Day Lounge and enjoy the chocolate fountain. After a couple drinks\, you can let out your inner Irishman and climb up to the St. Paddy&rsquo\;s Day room on the third floor. This party will have 6 different holidays in 6 different rooms\,</span></p>\n\n<p><span style="FONT-SIZE:10pt">+ a rooftop Mardi Gras experience for our VIP guests.</span></p>\n\n<p><span style="FONT-SIZE:10pt">You can see our video from last year&rsquo\;s event\, and further details on this year&rsquo\;s gala including ticket purchasing on our website <a href="http://zajacnights.com" target="_blank">http://zajacnights.com</a>.</span></p>\n\n<p><span style="FONT-SIZE:10pt">All proceeds raised will benefit Zajac Ranch for Children\, a medical summer camp for children with chronic\, life threatening and/or debilitating conditions. Further information on Zajac Ranch can be found at <a href="http://www.zajacranch.com" target="_blank">www.zajacranch.com</a>.</span></p>\n
LOCATION:Vancouver Club 915 W Hastings
UID:e.749.2640
SEQUENCE:3
DTSTAMP:20260425T212937Z
URL:https://business.swrbot.com/events/details/may-3-2014-zajac-nights-05-03-2014-2640
END:VEVENT

END:VCALENDAR
