BEGIN:VCALENDAR
VERSION:2.0
PRODID:-//ChamberMaster//Event Calendar 2.0//EN
METHOD:PUBLISH
X-PUBLISHED-TTL:P3D
REFRESH-INTERVAL:P3D
CALSCALE:GREGORIAN
BEGIN:VEVENT
DTSTART:20160503T144500Z
DTEND:20160503T170000Z
X-MICROSOFT-CDO-ALLDAYEVENT:FALSE
SUMMARY:May 3\, 2016 - Conflict Resolutions for Business
DESCRIPTION:In our multigenerational & culturally diverse workforce\, workplace conflict is often a result of different work ethics\, breakdown in communication and high levels of stress.\n\n\n\nHow often do we take time to authentically identify our "conflict tendencies" and improve our communication? Are we committed to enhancing our personal and professional interactions through openly understanding others' needs and interests? Knowing how to authentically manage and transform our conflict is essential to enhancing relationships and productivity within the workplace. This interactive workshop is designed for participants to explore\, reflect and reposition their conflicts so that they can be viewed as valuable co-creative meeting points for mutual growth rather than obstacles in our way.
X-ALT-DESC;FMTTYPE=text/html:In our multigenerational &amp\; culturally diverse workforce\, workplace conflict is often a result of different work ethics\, breakdown in communication and high levels of stress.<br />\n<br />\nHow often do we take time to authentically identify our &ldquo\;conflict tendencies&rdquo\; and improve our communication? Are we committed to enhancing our personal and professional interactions through openly understanding others&rsquo\; needs and interests? Knowing how to authentically manage and transform our conflict is essential to enhancing relationships and productivity within the workplace. This interactive workshop is designed for participants to explore\, reflect and reposition their conflicts so that they can be viewed as valuable co-creative meeting points for mutual growth rather than obstacles in our way.
LOCATION:Surrey Board of Trade 101\, 14439 104 Avenue\, Surrey
UID:e.749.4868
SEQUENCE:3
DTSTAMP:20260424T080627Z
URL:https://business.swrbot.com/events/details/may-3-2016-conflict-resolutions-for-business-05-03-2016-4868
END:VEVENT

END:VCALENDAR
