BEGIN:VCALENDAR
VERSION:2.0
PRODID:-//ChamberMaster//Event Calendar 2.0//EN
METHOD:PUBLISH
X-PUBLISHED-TTL:P3D
REFRESH-INTERVAL:P3D
CALSCALE:GREGORIAN
BEGIN:VEVENT
DTSTART:20170503T144500Z
DTEND:20170503T170000Z
X-MICROSOFT-CDO-ALLDAYEVENT:FALSE
SUMMARY:May 3\, 2017 - Own Your Day: Get Control with Effective Focus Management
DESCRIPTION:Do you need to get more out of your workday? Do you need tools and techniques that will drastically improve your output?  You can try to manage your time to be more effective\, but time is usually not the problem. It's time to sharpen your focus so you can feel in control of your day.  In this energetic session\, you'll learn how to manage your attention and reduce feelings of stress.  From dealing with interruptions to organizing your schedule\, this workshop will give you the confidence to have your most productive day ever.\n\n\n\nIn this workshop you'll learn:\n\n	How to reduce distractions and recurring interruptions\n	To create a personalized system for capturing new ideas and managing issues\n	How to stay focused and block out time for your most valuable projects\n	Why managing your energy is just as important as managing your time\n	How to develop a weekly routine to identify your most important work\n\nThis workshop is facilitated by Scott Friesen of Simpletivity Training & Consulting.
X-ALT-DESC;FMTTYPE=text/html:Do you need to get more out of your workday? Do you need tools and techniques that will drastically improve your output?&nbsp\; You can try to manage your time to be more effective\, but time is usually not the problem. It&rsquo\;s time to sharpen your focus so you can feel in control of your day. &nbsp\;In this energetic session\, you&rsquo\;ll learn how to manage your attention and reduce feelings of stress.&nbsp\; From dealing with interruptions to organizing your schedule\, this workshop will give you the confidence to have your most productive day ever.<br />\n<br />\n<strong>In this workshop you&rsquo\;ll learn:</strong>\n<ul>\n	<li>How to reduce distractions and recurring interruptions</li>\n	<li>To create a personalized system for capturing new ideas and managing issues</li>\n	<li>How to stay focused and block out time for your most valuable projects</li>\n	<li>Why managing your energy is just as important as managing your time</li>\n	<li>How to develop a weekly routine to identify your most important work</li>\n</ul>\n<i><b>This workshop is facilitated by Scott <span class="m_8568409268570308639gmail-scayt-misspell-word">Friesen</span> of <a data-saferedirecturl="https://www.google.com/url?hl=en&amp\;q=http://www.simpletivity.com/&amp\;source=gmail&amp\;ust=1483828534129000&amp\;usg=AFQjCNGc4IKtatl9uhAkI0lOuEM-YSEoGg" href="http://www.simpletivity.com/" target="_blank"><span class="m_8568409268570308639gmail-scayt-misspell-word">Simpletivity</span></a> Training &amp\; Consulting. </b></i>
LOCATION:Surrey Board of Trade 101\, 14439 104th Ave\, Surrey
UID:e.749.5291
SEQUENCE:3
DTSTAMP:20260422T013140Z
URL:https://business.swrbot.com/events/details/may-3-2017-own-your-day-get-control-with-effective-focus-management-05-03-2017-5291
END:VEVENT

END:VCALENDAR
