BEGIN:VCALENDAR
VERSION:2.0
PRODID:-//ChamberMaster//Event Calendar 2.0//EN
METHOD:PUBLISH
X-PUBLISHED-TTL:P3D
REFRESH-INTERVAL:P3D
CALSCALE:GREGORIAN
BEGIN:VEVENT
DTSTART:20190503T141500Z
DTEND:20190503T210000Z
X-MICROSOFT-CDO-ALLDAYEVENT:FALSE
SUMMARY:May 3\, 2019 - Surrey Industry Bus Tour
DESCRIPTION:Explore | Experience | Educate | Examine | Invest\n\n\n\nThis innovative event showcases Surrey's industries and Surrey's future developments. The tour showcases some of the unique businesses that already exist in Surrey and what has made them successful. Tour commentary will be provided by Lee & Associates.\n\n\n\nYou will be able to choose between three tours. Each tour will visit 5 locations focusing on different industries and in different areas of the city. Limited seats are available for this tour. The tour will conclude with a guest speaker and lunch.\n\n\n\nGuest Speaker: Dr. Ryan D'Arcy\, President and Chief Scientific Officer\, HealthTech Connex\n\nTopic: Update on Surrey's Health & Technology District\n\n\n\nTour Stops Include:\n\n\n\nBUS 1\n\nCanopy at Tynehead Park\n\nHubcast Media Productions\n\nEnsol Systems\n\nSilver Icing\n\nReliance Foundry\n\n\n\nBUS 2\n\nSafe Software\n\nUrban Cultivator\n\nCanopy at Tynehead Park\n\nThe Loafing Shed Glass Studio\n\nNova Pole\n\n\n\nBUS 3\n\nSFU Mechatronics Labs and NEW Sustainable Energy and Engineering Building\n\nAffinity Manufacturing\n\nBeachcomber Hot Tubs\n\nCanopy at Tynehead Park\n\nVan Gogh Designs\n\n\n\nPlease indicate your bus preference at the time of booking.\n\n\n\nEvent payment is due upon registration. Cancellations for event attendance\, sponsorship\, or exhibitor space will not be refunded. An event registration is considered a commitment to pay. While event registration is non-refundable\, cancellations before three full business days of the event may be eligible for a credit towards a future event. Some exclusions apply.
X-ALT-DESC;FMTTYPE=text/html:<p><span style="font-size:14px\;">Explore | Experience | Educate | Examine | Invest</span><br />\n<br />\n<span style="font-size:12px\;"><span style="font-family: arial\;"><span style="color: rgb(38\, 38\, 38)\;">This innovative event showcases Surrey&#39\;s industries and Surrey&#39\;s future developments. </span></span>The tour showcases some of the unique businesses that already exist in Surrey and what has made them successful. Tour commentary will be provided by Lee &amp\; Associates.<br />\n<br />\nYou will be able to choose between three tours. Each tour will visit 5 locations focusing on different industries and in different areas of the city. Limited seats are available for this tour. The tour will conclude with a guest speaker and lunch.<br />\n<br />\n<strong>Guest Speaker:</strong> Dr. Ryan D&#39\;Arcy\, President and Chief Scientific Officer\, HealthTech Connex<br />\n<strong>Topic:</strong> Update on Surrey&#39\;s Health &amp\; Technology District<br />\n<br />\nTour Stops Include:<br />\n<br />\n<strong>BUS 1</strong><br />\nCanopy at Tynehead Park<br />\nHubcast </span>Media Productions<br />\nEnsol Systems<br />\nSilver Icing<br />\nReliance Foundry<br />\n<br />\n<strong>BUS 2</strong><br />\nSafe Software<br />\nUrban Cultivator<br />\nCanopy at Tynehead Park<br />\nThe Loafing Shed Glass Studio<br />\nNova Pole<br />\n<br />\n<strong>BUS 3</strong><br />\nSFU Mechatronics Labs and <em>NEW</em> Sustainable Energy and Engineering Building<br />\nAffinity Manufacturing<br />\nBeachcomber Hot Tubs<br />\nCanopy at Tynehead Park<br />\nVan Gogh Designs<br />\n<br />\nPlease indicate your bus preference at the time of booking.</p>\n\n<hr /><br />\n<em><span style="color: rgb(34\, 34\, 34)\; font-family: Arial\, Helvetica\, sans-serif\; font-size: small\;">Event payment is due upon registration. Cancellations for event attendance\, sponsorship\, or exhibitor space will not be refunded. An event registration is considered a commitment to pay. While event registration is non-refundable\, cancellations before three full business days of the event may be eligible for a credit towards a future event. Some exclusions apply.</span></em>
LOCATION:Starting Location: Surrey Board of Trade (#101\, 14439 104th Avenue): Parking is complimentary (use church parking as over-flow) Lunch Location: Eaglequest Golf Course (7778 152 Street\, Surrey)
UID:e.749.8300
SEQUENCE:3
DTSTAMP:20260420T202155Z
URL:https://business.swrbot.com/events/details/may-3-2019-surrey-industry-bus-tour-05-03-2019-8300
END:VEVENT

END:VCALENDAR
