BEGIN:VCALENDAR
VERSION:2.0
PRODID:-//ChamberMaster//Event Calendar 2.0//EN
METHOD:PUBLISH
X-PUBLISHED-TTL:P3D
REFRESH-INTERVAL:P3D
CALSCALE:GREGORIAN
BEGIN:VEVENT
DTSTART:20190531T143000Z
DTEND:20190531T163000Z
X-MICROSOFT-CDO-ALLDAYEVENT:FALSE
SUMMARY:May 31\, 2019 - Surrey Entrepreneur Showcase: The Entrepreneurial Journey at the Civic Hotel
DESCRIPTION:Join the Surrey Board of Trade for insightful conversations with Surrey entrepreneurs and industry experts at the Surrey Entrepreneur Morning Showcase\, a series of events featuring Surrey business leaders in different industries and business sizes.\n\nSurrey has a vibrant entrepreneurship community. Let's learn from them.\n\nPanelists:\n\n\n	Sandra Christian - Founder and President\, Creative Kids Learning Centers - Early Childhood Care\n	Graeme Huguet - General Manager and Owner\, My House Design/Build/Team - Renovation\, Custom Homes and Home Improvement\n	Raveena Oberoi- Owner and Head Decorator/Pastry Chef\, Just Cake Bakeshop - Food and Trade
X-ALT-DESC;FMTTYPE=text/html:<p class="p1"><span style="font-size:14px\;"><span style="font-family:arial\;">Join the Surrey Board of Trade for insightful conversations with Surrey entrepreneurs and industry experts at the <b>Surrey Entrepreneur Morning Showcase\, </b>a series of events featuring Surrey business leaders in different industries and business sizes.</span></span></p>\n\n<p class="p2"><span style="font-size:14px\;"><span style="font-family:arial\;">Surrey has a vibrant entrepreneurship community. Let&#39\;s learn from them.</span></span></p>\n\n<p class="p1"><span style="font-size:14px\;"><span style="font-family:arial\;"><b>Panelists:</b></span></span></p>\n\n<ol>\n	<li class="p1"><span style="font-size:14px\;"><span style="font-family:arial\;"><b style="font-family:arial\;font-size:12px">Sandra Christian </b>- Founder and President\, Creative Kids Learning Centers - Early Childhood Care</span></span></li>\n	<li class="p1"><span style="font-size:14px\;"><span style="font-family:arial\;"><b>Graeme Huguet </b>-<b> </b>General Manager and Owner\, My House Design/Build/Team - Renovation\, Custom Homes and Home Improvement</span></span></li>\n	<li class="p1"><span style="font-family: arial\;"><span style="font-size: 12px\;"><b>Raveena Oberoi</b></span><span style="font-size: 14px\;">- Owner and Head Decorator/Pastry Chef\, Just Cake Bakeshop - Food and Trade</span></span></li>\n</ol>\n
LOCATION:Civic Hotel\, Autograph Collection (13475 Central Avenue\, Surrey)
UID:e.749.10314
SEQUENCE:3
DTSTAMP:20260420T191804Z
URL:https://business.swrbot.com/events/details/may-31-2019-surrey-entrepreneur-showcase-the-entrepreneurial-journey-at-the-civic-hotel-05-31-2019-10314
END:VEVENT

END:VCALENDAR
