BEGIN:VCALENDAR
VERSION:2.0
PRODID:-//ChamberMaster//Event Calendar 2.0//EN
METHOD:PUBLISH
X-PUBLISHED-TTL:P3D
REFRESH-INTERVAL:P3D
CALSCALE:GREGORIAN
BEGIN:VEVENT
DTSTART:20180504T141500Z
DTEND:20180504T210000Z
X-MICROSOFT-CDO-ALLDAYEVENT:FALSE
SUMMARY:May 4\, 2018 - Surrey Industry Bus Tour
DESCRIPTION:Don't miss out on Surrey's Annual Industry Bus Tour! You still have time to book yourself a seat for Friday\, May 4\, 2018\, from 7:15 am - 2:00 pm. This innovative event showcases Surrey's industries and Surrey's future developments. This also includes commentary by Lee & Associates.  \n\n\n\nBus One: \n\n    Surrey Transportation Management Centre\n\n    Delta Controls Inc.\n\n    Advance Wire Products Ltd.  \n\n    AWC Process Solutions Ltd. \n\n    Beedie (Drive-By)\n\n    Pacific Inn Resort & Conference Centre\n\n \n\nBus Two:\n\n    Powertech Labs Inc.\n\n    Rimex Supply Ltd.\n\n    Campbell Heights Fabrication Inc. \n\n    Beedie (Drive-By)\n\n    Pacific Inn Resort & Conference Centre\n\n \n\nBus Three:\n\n    Health and Technology District by Lark Group\n\n    Affinity Manufacturing Ltd.\n\n    Karice Enterprises Ltd.\n\n    Weir Minerals Canada \n\n    Beedie (Drive-By)\n\n    Pacific Inn Resort & Conference Centre\n\n \n\nTimings:\n\n7:15 am - Continental Breakfast and Registration \n\n8:00 am - Depart Surrey Board of Trade on Tour \n\n12:00 pm - Lunch Program at Pacific Inn Resort & Conference Centre\n\n2:00 pm   Surrey Board of Trade Office\n\n \n\nLunch Sponsor: Pacific Inn Resort & Conference Centre\n\nCommentary Sponsor: Lee & Associates \n\nSupporting Sponsor: Beedie\n\nTransportation Sponsor: Charter Bus Lines
X-ALT-DESC;FMTTYPE=text/html:<span style="font-family:arial\,helvetica\,sans-serif\;"><span style="color:#262626\;">Don&#39\;t miss out on Surrey&#39\;s Annual Industry Bus Tour! You still have time to book yourself a seat for&nbsp\;<strong>Friday\, May 4\, 2018\, from&nbsp\;7:15 am - 2:00 pm</strong>. This innovative event showcases Surrey&rsquo\;s industries and Surrey&rsquo\;s future developments. This also includes commentary by Lee &amp\; Associates.&nbsp\;</span></span>&#8232\;<br />\n<br />\n<span style="font-family:arial\,helvetica\,sans-serif\;"><strong><span style="color:#262626\;">Bus One:</span></strong></span>&#8232\;<br />\n<span style="font-family:arial\,helvetica\,sans-serif\;"><span style="color:#262626\;">&bull\;&nbsp\;&nbsp\;&nbsp\;</span></span><span style="color:#262626\;">Surrey Transportation Management Centre</span><br />\n<span style="font-family:arial\,helvetica\,sans-serif\;"><span style="color:#262626\;">&bull\;&nbsp\;&nbsp\;&nbsp\;</span></span><span style="color:#262626\;">Delta Controls Inc.</span><br />\n<span style="font-family:arial\,helvetica\,sans-serif\;"><span style="color:#262626\;">&bull\;&nbsp\;&nbsp\;&nbsp\;</span></span><span style="color:#262626\;">Advance Wire Products Ltd.&#8203\;&#8203\;</span><br />\n<span style="font-family: arial\, helvetica\, sans-serif\;"><span style="color: rgb(38\, 38\, 38)\;">&bull\;&nbsp\;&nbsp\;&nbsp\;</span></span><span style="color:#262626\;">AWC Process Solutions Ltd.&nbsp\;</span><br />\n<span style="font-family:arial\,helvetica\,sans-serif\;"><span style="color:#262626\;">&bull\;&nbsp\;&nbsp\;&nbsp\;</span></span><span style="color:#262626\;">Beedie&nbsp\;(Drive-By)</span><br />\n<span style="font-family:arial\,helvetica\,sans-serif\;">&bull\;&nbsp\; &nbsp\;</span>Pacific Inn Resort &amp\; Conference Centre<br />\n&nbsp\;<br />\n<strong><span style="color:#262626\;"><span style="font-family:arial\,helvetica\,sans-serif\;">Bus Two:</span></span></strong><br />\n<span style="font-family:arial\,helvetica\,sans-serif\;"><span style="color:#262626\;">&bull\;&nbsp\;&nbsp\;&nbsp\;</span></span><span style="color:#262626\;">Powertech Labs Inc.</span><br />\n<span style="font-family:arial\,helvetica\,sans-serif\;"><span style="color:#262626\;">&bull\;&nbsp\;&nbsp\;&nbsp\;</span></span><span style="color:#262626\;">Rimex Supply Ltd.</span><br />\n<span style="font-family:arial\,helvetica\,sans-serif\;"><span style="color:#262626\;">&bull\;&nbsp\; &nbsp\;Campbell Heights Fabrication Inc.&nbsp\;</span></span><br />\n<span style="font-family:arial\,helvetica\,sans-serif\;"><span style="color:#262626\;">&bull\;&nbsp\;&nbsp\;&nbsp\;</span></span><span style="color:#262626\;">Beedie&nbsp\;</span><span style="color:#262626\;">(Drive-By)</span><br />\n<span style="font-family:arial\,helvetica\,sans-serif\;">&bull\;&nbsp\; &nbsp\;</span>Pacific Inn Resort &amp\; Conference Centre<br />\n&nbsp\;<br />\n<strong><span style="color:#262626\;"><span style="font-family:arial\,helvetica\,sans-serif\;">Bus Three:</span></span></strong><br />\n<span style="font-family:arial\,helvetica\,sans-serif\;"><span style="color:#262626\;">&bull\;</span></span><span style="color:#262626\;">&nbsp\; &nbsp\;Health and Technology District by Lark Group</span><br />\n<span style="font-family:arial\,helvetica\,sans-serif\;"><span style="color:#262626\;">&bull\;&nbsp\;&nbsp\;&nbsp\;</span></span><span style="color:#262626\;">Affinity Manufacturing Ltd.</span><br />\n<span style="font-family:arial\,helvetica\,sans-serif\;"><span style="color:#262626\;">&bull\;&nbsp\;&nbsp\;&nbsp\;</span></span><span style="color:#262626\;">Karice Enterprises Ltd.</span><br />\n<span style="font-family: arial\, helvetica\, sans-serif\;"><span style="color: rgb(38\, 38\, 38)\;">&bull\;&nbsp\; &nbsp\;Weir Minerals Canada&nbsp\;</span></span><br />\n<span style="font-family:arial\,helvetica\,sans-serif\;"><span style="color:#262626\;">&bull\;&nbsp\;&nbsp\;&nbsp\;</span></span><span style="color:#262626\;">Beedie&nbsp\;(Drive-By)</span><br />\n<span style="font-family:arial\,helvetica\,sans-serif\;">&bull\;&nbsp\; &nbsp\;</span>Pacific Inn Resort &amp\; Conference Centre<br />\n&nbsp\;<br />\n<strong><span style="color:#262626\;"><span style="font-family:arial\,helvetica\,sans-serif\;">Timings:</span></span></strong><br />\n<span style="font-family:arial\,helvetica\,sans-serif\;"><span style="color:#262626\;">7:15 am&nbsp\;- Continental Breakfast and Registration</span></span>&#8232\;<br />\n<span style="font-family:arial\,helvetica\,sans-serif\;"><span style="color:#262626\;">8:00 am&nbsp\;- Depart Surrey Board of Trade on Tour</span></span>&#8232\;<br />\n<span style="font-family:arial\,helvetica\,sans-serif\;"><span style="color:#262626\;">12:00 pm&nbsp\;- Lunch Program at&nbsp\;</span></span><span style="background-image:initial\;background-position:initial\;background-size:initial\;background-repeat:initial\;background-attachment:initial\;background-origin:initial\;background-clip:initial\;">Pacific Inn Resort &amp\; Conference Centre</span><br />\n<span style="background-image:initial\;background-position:initial\;background-size:initial\;background-repeat:initial\;background-attachment:initial\;background-origin:initial\;background-clip:initial\;"><span style="font-family:arial\,helvetica\,sans-serif\;">2:00 pm &ndash\; Surrey Board of Trade Office</span></span><br />\n&nbsp\;<br />\n<span style="font-family:arial\,helvetica\,sans-serif\;"><strong><span style="color:#262626\;">Lunch Sponsor:&nbsp\;</span></strong></span><span style="background-image:initial\;background-position:initial\;background-size:initial\;background-repeat:initial\;background-attachment:initial\;background-origin:initial\;background-clip:initial\;">Pacific Inn Resort &amp\; Conference Centre</span><br />\n<span style="font-family:arial\,helvetica\,sans-serif\;"><strong><span style="color:#262626\;">Commentary Sponsor:&nbsp\;</span></strong></span><span style="color:#262626\;">Lee &amp\; Associates</span>&#8232\;<br />\n<span style="font-family:arial\,helvetica\,sans-serif\;"><strong><span style="color:#262626\;">Supporting Sponsor:&nbsp\;</span></strong></span><span style="color:#262626\;">Beedie</span><br />\n<span style="font-family:arial\,helvetica\,sans-serif\;"><strong><span style="color:#262626\;">Transportation Sponsor:&nbsp\;</span></strong></span><span style="color:#262626\;">Charter Bus Lines</span>&#8232\;&#8232\;
LOCATION:Starting Location: Surrey Board of Trade (#101\, 14439 104th Ave.) Lunch Location: Pacific Inn Resort & Conference Centre
UID:e.749.5474
SEQUENCE:3
DTSTAMP:20260421T102835Z
URL:https://business.swrbot.com/events/details/may-4-2018-surrey-industry-bus-tour-05-04-2018-5474
END:VEVENT

END:VCALENDAR
