BEGIN:VCALENDAR
VERSION:2.0
PRODID:-//ChamberMaster//Event Calendar 2.0//EN
METHOD:PUBLISH
X-PUBLISHED-TTL:P3D
REFRESH-INTERVAL:P3D
CALSCALE:GREGORIAN
BEGIN:VEVENT
DTSTART:20170505T140000Z
DTEND:20170505T210000Z
X-MICROSOFT-CDO-ALLDAYEVENT:FALSE
SUMMARY:May 5\, 2017 - Surrey Industry Tour
DESCRIPTION:This tour showcases some of the unique businesses that already exist in\n\nSurrey and what has made them successful. \n\n\n\nYou will be able to choose between 3 tours. Each tour will visit 3-5 Surrey\n\nbusinesses focusing on different industries and in different areas of the city.\n\n\n\nLimited seats are available for this tour. The tour will conclude with a guest speaker and lunch.\n\n\n\nKeynote Speaker: Rowena Rizzotti\, Vice-President - Healthcare and Innovation\, Lark Group\n\nSURREY'S HEALTH INDUSTRY INNOVATION\n\n\n\nBus 1\n\n1. Surrey Transportation Management Centre (located in City Hall)\n\n2. Arktos Developments\n\n3. FortisBC\n\n4. ABC Recycling\n\n\n\nBus 2\n\n1. Finishing Trades Institute\n\n2. Surrey Organic Biofuel Facility\n\n3. Mansonville Plastics Group of Companies\n\n\n\nBus 3\n\n1. Powertech Labs\n\n2. Honeybee Centre\n\n3. Astrographic Industries
X-ALT-DESC;FMTTYPE=text/html:<span style="font-family:arial\;"><span style="font-size: 12px\;">This tour showcases some of the unique businesses that already exist in<br />\nSurrey and what has made them successful. </span></span><br />\n<br />\n<span style="font-family:arial\;"><span style="font-size: 12px\;">You will be able to choose between 3 tours. Each tour will visit 3-5 Surrey<br />\nbusinesses focusing on different industries and in different areas of the city.<br />\n<br />\nLimited seats are available for this tour. The tour will conclude with a guest speaker and lunch.</span></span><br />\n<br />\n<span style="font-family:arial\,helvetica\,sans-serif"><font size="2"><span><b>Keynote Speaker: Rowena Rizzotti\, Vice-President - Healthcare and Innovation\, Lark Group</b></span></font></span><br />\n<span style="font-family:arial\,helvetica\,sans-serif"><font size="2"><span><b>SURREY&#39\;S HEALTH INDUSTRY INNOVATION</b></span></font></span><br />\n<br />\n<b>Bus 1</b><br />\n1. Surrey Transportation Management Centre (located in City Hall)<br />\n2. Arktos Developments<br />\n3. FortisBC<br />\n4. ABC Recycling<br />\n<br />\n<b>Bus 2</b><br />\n1. Finishing Trades Institute<br />\n2. Surrey Organic Biofuel Facility<br />\n3. Mansonville Plastics Group of Companies<br />\n<br />\n<b>Bus 3</b><br />\n1. Powertech Labs<br />\n2. Honeybee Centre<br />\n3. Astrographic Industries
LOCATION:Starting Location: Surrey Board of Trade (#101\, 14439 104th Ave.) Lunch Location: Hilton Doubletree South Surrey Hotel
UID:e.749.5192
SEQUENCE:3
DTSTAMP:20260422T013048Z
URL:https://business.swrbot.com/events/details/may-5-2017-surrey-industry-tour-05-05-2017-5192
END:VEVENT

END:VCALENDAR
