BEGIN:VCALENDAR
VERSION:2.0
PRODID:-//ChamberMaster//Event Calendar 2.0//EN
METHOD:PUBLISH
X-PUBLISHED-TTL:P3D
REFRESH-INTERVAL:P3D
CALSCALE:GREGORIAN
BEGIN:VEVENT
DTSTART;VALUE=DATE:20100506
DTEND;VALUE=DATE:20100507
TRANSP:TRANSPARENT
X-MICROSOFT-CDO-ALLDAYEVENT:TRUE
SUMMARY:May 6\, 2010 - Breakfast in the City
DESCRIPTION:
X-ALT-DESC;FMTTYPE=text/html:
LOCATION:
UID:e.749.1603
SEQUENCE:3
DTSTAMP:20260422T221524Z
URL:https://business.swrbot.com/events/details/may-6-2010-breakfast-in-the-city-05-06-2010-1603
END:VEVENT

END:VCALENDAR
