BEGIN:VCALENDAR
VERSION:2.0
PRODID:-//ChamberMaster//Event Calendar 2.0//EN
METHOD:PUBLISH
X-PUBLISHED-TTL:P3D
REFRESH-INTERVAL:P3D
CALSCALE:GREGORIAN
BEGIN:VEVENT
DTSTART:20140506T140000Z
DTEND:20140506T171500Z
X-MICROSOFT-CDO-ALLDAYEVENT:FALSE
SUMMARY:May 6\, 2014 - Business in Vancouver's First Surrey Business Growth Breakfast
DESCRIPTION:May 6\, 2014 - Business in Vancouver's First Surrey Business Growth Breakfast\n\n\n\nIt's safe to say that most entrepreneurs worry about increasing customers\, sales and profits\, and not about being too successful. But a company enjoying rapid growth can suddenly face serious problems if supplies or services can't keep up with market demand or if it can't raise the capital to handle its growth. In a city as diverse and rapidly growing as Surrey\, which factors should be taken into account when choosing a location for your business or structuring it for growth? The BES Surrey Business Growth panel discussion will examine what it takes to build your company and grow it successfully   and how to avoid the pitfalls that come with expansion.\n\n \n\nPANELISTS:\n\nAmar Sidhu\, Regional Manager of Business Services\, Envision Financial\n\nLee Bass\, Regional Managing Partner\, MNP LLP\n\nRandy Heed\, Senior Vice President\, Colliers International\n\n\n\nMODERATOR:\n\nTako J. van Popta\, Partner\, McQuarrie Hunter
X-ALT-DESC;FMTTYPE=text/html:<strong>May 6\, 2014 - Business in Vancouver&#39\;s First Surrey Business Growth Breakfast</strong><br />\n<br />\n<span style="font-size:12px"><span style="font-family:arial">It&rsquo\;s safe to say that most entrepreneurs worry about increasing customers\, sales and profits\, and not about being too successful. But a company enjoying rapid growth can suddenly face serious problems if supplies or services can&rsquo\;t keep up with market demand or if it can&rsquo\;t raise the capital to handle its growth. In a city as diverse and rapidly growing as Surrey\, which factors should be taken into account when choosing a location for your business or structuring it for growth? The BES Surrey Business Growth panel discussion will examine what it takes to build your company and grow it successfully &ndash\; and how to avoid the pitfalls that come with expansion.<br />\n&nbsp\;<br />\n<strong>PANELISTS:</strong><br />\nAmar Sidhu\, Regional Manager of Business Services\, Envision Financial<br />\nLee Bass\, Regional Managing Partner\, MNP LLP<br />\nRandy Heed\, Senior Vice President\, Colliers International<br />\n<br />\n<strong>MODERATOR:</strong><br />\nTako J. van Popta\, Partner\, McQuarrie Hunter</span></span><br />\n&nbsp\;\n<h4>&nbsp\;</h4>\n\n<h4>&nbsp\;</h4>\n
LOCATION:Sheraton Guildford Hotel 15269 104th Ave Surrey\, BC
UID:e.749.2638
SEQUENCE:3
DTSTAMP:20260425T213146Z
URL:https://business.swrbot.com/events/details/may-6-2014-business-in-vancouver-s-first-surrey-business-growth-breakfast-05-06-2014-2638
END:VEVENT

END:VCALENDAR
