BEGIN:VCALENDAR
VERSION:2.0
PRODID:-//ChamberMaster//Event Calendar 2.0//EN
METHOD:PUBLISH
X-PUBLISHED-TTL:P3D
REFRESH-INTERVAL:P3D
CALSCALE:GREGORIAN
BEGIN:VEVENT
DTSTART:20140506T144500Z
DTEND:20140506T170000Z
X-MICROSOFT-CDO-ALLDAYEVENT:FALSE
SUMMARY:May 6\, 2014 - Not-For-Profit Fundraising Workshop
DESCRIPTION:Not-for-Profit Fundraising Workshop\n\n\n\nFundraising is a key element of running a successful not-for-profit agency. It's important to know how to effectively find and manage your donors\, and keep ahead of the trends by finding new ways to generate revenue to support your programs. Attend this Not-for-Profit Fundraising Workshop to learn about:\n\n\n\nDonors\n\nFind out who donors are\, how to find new donors\, and how to recognize and work with them once you have them on board.\n\n\n\nNew Fundraising Ideas\n\nRelying on government funding is no longer an option for not-for-profits. In order to sustain the important programs they offer\, not-for-profit agencies must find new ways to generate revenue.\n\n \n\nMarketing Your Organization\n\nMaking your organization attractive to donors is important. Discover how to spread the word in the community to effectively brand your cause.\n\n\n\nThis session is facilitated by Jeff Norris. Jeff Norris is the Chief Advancement Officer for Kwantlen Polytechnic University\, CEO of the KPU Foundation and executive director of the KPU Alumni Association\, a group he was involved in founding. Norris has made a positive impression on the bottom lines of every non-profit he's joined\, including the Heart and Stroke Foundation\, the Kidney Foundation and St. Paul's Hospital Foundation. Jeff spent seven years as director of annual and corporate giving at St. Paul's\, and was part of the team that increased the foundation's annual fundraising from $2.5 million to $10 million.
X-ALT-DESC;FMTTYPE=text/html:<strong>Not-for-Profit Fundraising Workshop</strong><br />\n<br />\nFundraising is a key element of running a successful not-for-profit agency. It&rsquo\;s important to know how to effectively find and manage your donors\, and keep ahead of the trends by finding new ways to generate revenue to support your programs. Attend this Not-for-Profit Fundraising Workshop to learn about:<br />\n<br />\n<b>Donors</b><br />\nFind out who donors are\, how to find new donors\, and how to recognize and work with them once you have them on board.<br />\n<br />\n<b>New Fundraising Ideas</b><br />\nRelying on government funding is no longer an option for not-for-profits. In order to sustain the important programs they offer\, not-for-profit agencies must find new ways to generate revenue.<br />\n&nbsp\;<br />\n<b>Marketing Your Organization</b><br />\nMaking your organization attractive to donors is important. Discover how to spread the word in the community to effectively brand your cause.<br />\n<br />\nThis session is facilitated by Jeff Norris. Jeff Norris is the Chief Advancement Officer for Kwantlen Polytechnic University\, CEO of the KPU Foundation and executive director of the KPU Alumni Association\, a group he was involved in founding. Norris has made a positive impression on the bottom lines of every non-profit he&rsquo\;s joined\, including the Heart and Stroke Foundation\, the Kidney Foundation and St. Paul&rsquo\;s Hospital Foundation. Jeff spent seven years as director of annual and corporate giving at St. Paul&rsquo\;s\, and was part of the team that increased the foundation&rsquo\;s annual fundraising from $2.5 million to $10 million.
LOCATION:Surrey Board of Trade Conference Room 101 - 14439 104th Ave Surrey\, BC
UID:e.749.2632
SEQUENCE:3
DTSTAMP:20260425T213420Z
URL:https://business.swrbot.com/events/details/may-6-2014-not-for-profit-fundraising-workshop-05-06-2014-2632
END:VEVENT

END:VCALENDAR
