BEGIN:VCALENDAR
VERSION:2.0
PRODID:-//ChamberMaster//Event Calendar 2.0//EN
METHOD:PUBLISH
X-PUBLISHED-TTL:P3D
REFRESH-INTERVAL:P3D
CALSCALE:GREGORIAN
BEGIN:VEVENT
DTSTART:20160506T141500Z
DTEND:20160506T210000Z
X-MICROSOFT-CDO-ALLDAYEVENT:FALSE
SUMMARY:May 6\, 2016 - Surrey Tour of Industry
DESCRIPTION:This tour showcases some of the unique businesses that already exist in\n\nSurrey and what has made them successful. Tour commentary will be provided\n\nby Colliers.\n\n\n\nYou will be able to choose between 3 tours. Each tour will visit 3-5 Surrey\n\nbusinesses focusing on different industries and in different areas of the city.\n\n\n\nLimited seats are available for this tour. The tour will conclude with a guest speaker and lunch.\n\nKeynote Speech: The Real Truth About Surrey's Demographics\n\nKeynote Speakers: Ron Hoffart\, ThinkSpace Architecture Planning and Harmen Bedi of RW Homes\n\n\n\nTour Stops\n\nBus One:\n\nLMS Reinforcing Steel\n\n1B - 15050 54A Avenue\n\n\n\nMicroMatter Technologies \n\n1   8333 130 Street\n\n \n\nLark Group and HealthConnect\n\n13737 96 Avenue\n\n \n\nCentral City Brewing Company\n\n11411 Bridgeview Drive\n\n\n\nBus Two:\n\nPacific Customs Brokers Ltd.\n\n101   17637 1st Avenue\n\n \n\nEndurance Wind Power Inc.\n\n101-19347 24 Avenue\n\n\n\nColumbia Plastics Ltd.\n\n19320 60 Avenue\n\n \n\nElements Casino\n\n17755 60 Avenue\n\n\n\nBus Three:\n\nPrabu Foods Inc.\n\n8035 130 Street\n\n \n\nSunrise Kitchens Ltd.\n\n13375 Comber Way\n\n\n\nFraser Surrey Docks\, LP\n\n11060 Elevator Road\n\n \n\nSolid Rock Steel Fabricating Co. Ltd.\n\n17780 Daly Road
X-ALT-DESC;FMTTYPE=text/html:<span style="font-family:arial\;"><span style="font-size: 12px\;">This tour showcases some of the unique businesses that already exist in<br />\nSurrey and what has made them successful. Tour commentary will be provided<br />\nby Colliers.<br />\n<br />\nYou will be able to choose between 3 tours. Each tour will visit 3-5 Surrey<br />\nbusinesses focusing on different industries and in different areas of the city.<br />\n<br />\nLimited seats are available for this tour. The tour will conclude with a guest speaker and lunch.</span></span><br />\n<span style="font-family:arial\;"><span style="font-size: 12px\;"><strong>Keynote Speech: The Real Truth About Surrey&#39\;s Demographics</strong></span></span><br />\n<span style="font-family:arial\;"><span style="font-size: 12px\;"><em><strong>Keynote Speakers: Ron Hoffart\, ThinkSpace Architecture Planning and Harmen Bedi of RW Homes</strong></em><br />\n<br />\n<span style="font-size:16px\;"><strong>Tour Stops</strong></span><br />\n<span style="color:#006666\;"><strong>Bus One:</strong></span><br />\n<strong>LMS Reinforcing Steel</strong><br />\n1B - 15050 54A Avenue<br />\n<br />\n<strong>MicroMatter Technologies </strong><br />\n1 &ndash\; 8333 130 Street<br />\n&nbsp\;<br />\n<strong>Lark Group and HealthConnect</strong><br />\n13737 96 Avenue<br />\n&nbsp\;<br />\n<strong>Central City Brewing Company</strong><br />\n11411 Bridgeview Drive<br />\n<br />\n<span style="color:#006666\;"><strong>Bus Two:</strong></span><br />\n<strong>Pacific Customs Brokers Ltd.</strong><br />\n101 &ndash\; 17637 1<sup>st</sup> Avenue<br />\n&nbsp\;<br />\n<strong>Endurance Wind Power Inc.</strong></span></span><br />\n101-19347 24 Avenue<br />\n<br />\n<span style="font-family:arial\;"><span style="font-size: 12px\;"><strong>Columbia Plastics Ltd.</strong><br />\n19320 60 Avenue<br />\n&nbsp\;<br />\n<strong>Elements Casino</strong><br />\n17755 60 Avenue<br />\n<br />\n<span style="color:#006666\;"><strong>Bus Three:</strong></span><br />\n<strong>Prabu Foods Inc.</strong><br />\n8035 130 Street<br />\n&nbsp\;<br />\n<strong>Sunrise Kitchens Ltd.</strong><br />\n13375 Comber Way<br />\n<br />\n<strong>Fraser Surrey Docks\, LP</strong><br />\n11060 Elevator Road<br />\n&nbsp\;<br />\n<strong>Solid Rock Steel Fabricating Co. Ltd.</strong><br />\n17780 Daly Road</span></span><br />\n&nbsp\;
LOCATION:Starting Location: Surrey Board of Trade 101 - 14439 104 Avenue
UID:e.749.3747
SEQUENCE:3
DTSTAMP:20260424T085903Z
URL:https://business.swrbot.com/events/details/may-6-2016-surrey-tour-of-industry-05-06-2016-3747
END:VEVENT

END:VCALENDAR
