BEGIN:VCALENDAR
VERSION:2.0
PRODID:-//ChamberMaster//Event Calendar 2.0//EN
METHOD:PUBLISH
X-PUBLISHED-TTL:P3D
REFRESH-INTERVAL:P3D
CALSCALE:GREGORIAN
BEGIN:VEVENT
DTSTART:20140509T003000Z
DTEND:20140509T033000Z
X-MICROSOFT-CDO-ALLDAYEVENT:FALSE
SUMMARY:May 8\, 2014 - 6th Surrey International Trade Awards Reception
DESCRIPTION:Join us in celebrating the recipients of the 6th Surrey International Trade\n\nAwards.  Winners will be presented at a celebratory networking reception on\n\nThursday\, May 8\, 2014. Awards will be presented in the following categories:\n\n                           Small Business    |    Large Business\n\n\n\nEnjoy delicious hors d'oeuvres\, make new business contacts\, mingle\n\nwith government representatives and consul generals\, and celebrate the\n\nachievements of Surrey's finest importers and exporters!\n\n\n\nThe event will feature speaker presentations and an International Trade Show.\n\n\n\nMinister of International Trade and Minister Responsible for the Asia Pacific Strategy and Multiculturalism\, the Hon. Teresa Wat\, will provide an overview of the advantages to BC businesses to engage in global business.\n\n\n\nHear from Barj Dhahan\, Simon Fraser University\, on the results of SFU's recent India Delegation.
X-ALT-DESC;FMTTYPE=text/html:Join us in celebrating the recipients of the 6th Surrey International Trade<br />\nAwards.&nbsp\; Winners will be presented at a celebratory networking reception on<br />\nThursday\, May 8\, 2014. Awards will be presented in the following categories:<br />\n&nbsp\;&nbsp\;&nbsp\;&nbsp\;&nbsp\;&nbsp\;&nbsp\;&nbsp\;&nbsp\;&nbsp\;&nbsp\;&nbsp\;&nbsp\;&nbsp\;&nbsp\;&nbsp\;&nbsp\;&nbsp\;&nbsp\;&nbsp\;&nbsp\;&nbsp\;&nbsp\;&nbsp\;&nbsp\;<strong>&nbsp\; Small Business&nbsp\;&nbsp\;&nbsp\; |&nbsp\;&nbsp\;&nbsp\; Large Business</strong><br />\n<br />\nEnjoy delicious hors d&rsquo\;oeuvres\, make new business contacts\, mingle<br />\nwith government representatives and consul generals\, and celebrate the<br />\nachievements of Surrey&rsquo\;s finest importers and exporters!<br />\n<br />\nThe event will feature speaker presentations and an International Trade Show.<br />\n<br />\nMinister of International Trade and Minister Responsible for the Asia Pacific Strategy and Multiculturalism\, the Hon. Teresa Wat\, will provide an overview of the advantages to BC businesses to engage in global business.<br />\n<br />\nHear from Barj Dhahan\, Simon Fraser University\, on the results of SFU&rsquo\;s recent India Delegation.<br />\n<br />\n&nbsp\;
LOCATION:Sheraton Vancouver Guildford Hotel 15269 104 Avenue Surrey\, BC
UID:e.749.2497
SEQUENCE:3
DTSTAMP:20260425T224229Z
URL:https://business.swrbot.com/events/details/may-8-2014-6th-surrey-international-trade-awards-reception-05-08-2014-2497
END:VEVENT

END:VCALENDAR
