BEGIN:VCALENDAR
VERSION:2.0
PRODID:-//ChamberMaster//Event Calendar 2.0//EN
METHOD:PUBLISH
X-PUBLISHED-TTL:P3D
REFRESH-INTERVAL:P3D
CALSCALE:GREGORIAN
BEGIN:VEVENT
DTSTART:20190509T010000Z
DTEND:20190509T030000Z
X-MICROSOFT-CDO-ALLDAYEVENT:FALSE
SUMMARY:May 8\, 2019 - Newton Talks: Sources Newton
DESCRIPTION:Speaker: TBD\n\nTopic: TBD\n\nLocation: Sources Newton Resource Centre\n\nAddress: 13771 72a Ave #102\, Surrey\, BC V3W 9C6\n\nTime: 6 p.m. - 8 p.m.\n\n\n\nSpace is limited. Register early!
X-ALT-DESC;FMTTYPE=text/html:<p><strong>Speaker: </strong>TBD<br />\n<strong>Topic:</strong> TBD<br />\n<strong>Location: </strong>Sources Newton Resource Centre<br />\n<strong>Address: </strong>13771 72a Ave #102\, Surrey\, BC V3W 9C6<br />\n<strong>Time: </strong>6 p.m. - 8 p.m.<br />\n<br />\n<strong>Space is limited. Register early! </strong></p>\n
LOCATION:Sources Newton Resource Centre 13771 72a Ave #102 Surrey\, BC V3W 9C6
UID:e.749.10204
SEQUENCE:3
DTSTAMP:20260420T185801Z
URL:https://business.swrbot.com/events/details/may-8-2019-newton-talks-sources-newton-05-08-2019-10204
END:VEVENT

END:VCALENDAR
