BEGIN:VCALENDAR
VERSION:2.0
PRODID:-//ChamberMaster//Event Calendar 2.0//EN
METHOD:PUBLISH
X-PUBLISHED-TTL:P3D
REFRESH-INTERVAL:P3D
CALSCALE:GREGORIAN
BEGIN:VEVENT
DTSTART:20190428T210000Z
DTEND:20190428T223000Z
X-MICROSOFT-CDO-ALLDAYEVENT:FALSE
SUMMARY:Meet Michael Kusugak
DESCRIPTION:An Indigenous Author Reading for all ages. Michael Kusugak is a Canadian writer and storyteller of Inuit traditions and legends. See and touch artifacts of seal skin\, caribou\, kamiks\, and a qulliq. Listen to his grandmother's stories come alive. There will be an opening blessing and refreshments provided. Each family will receive a copy of one of Michael's books. Part of the Indigenous Authors and Storytellers series.
X-ALT-DESC;FMTTYPE=text/html:An Indigenous Author Reading for all ages. Michael Kusugak is a Canadian writer and storyteller of Inuit traditions and legends. See and touch artifacts of seal skin\, caribou\, kamiks\, and a qulliq. Listen to his grandmother&#39\;s stories come alive. There will be an opening blessing and refreshments provided. Each family will receive a copy of one of Michael&#39\;s books. Part of the Indigenous Authors and Storytellers series.
LOCATION:Surrey Libraries City Centre Branch 10350 University Drive\, Surrey BC
UID:e.749.10302
SEQUENCE:3
DTSTAMP:20260420T202738Z
URL:https://business.swrbot.com/events/details/meet-michael-kusugak-04-28-2019-10302
END:VEVENT

END:VCALENDAR
