BEGIN:VCALENDAR
VERSION:2.0
PRODID:-//ChamberMaster//Event Calendar 2.0//EN
METHOD:PUBLISH
X-PUBLISHED-TTL:P3D
REFRESH-INTERVAL:P3D
CALSCALE:GREGORIAN
BEGIN:VEVENT
DTSTART:20140801T000000Z
DTEND:20140801T030000Z
X-MICROSOFT-CDO-ALLDAYEVENT:FALSE
SUMMARY:Meet the neighbours and B2B networking event
DESCRIPTION:Join us for a B2B networking event where we'll hear about some of the victories and challenges that the newly formed Business Improvement Area has encountered in the past three years and learn a little bit more about what the next two years will bring. \nAnyone who is interested in how the neighbourhood is changing should come by and join us for a pint\, the first one's on us
X-ALT-DESC;FMTTYPE=text/html:<p>Join us for a B2B networking event where we&#39\;ll hear about some of the victories and challenges that the newly formed Business Improvement Area has encountered in the past three years and learn a little bit more about what the next two years will bring.&nbsp\;</p>\n<span style="font-size : 16px">Anyone who is interested in how the neighbourhood is changing should come by and join us for a pint\, the first one&#39\;s on us</span>
LOCATION:The Pint Public House 455 Abbott Street\, Vancouver\, BC
UID:e.749.2698
SEQUENCE:3
DTSTAMP:20260425T201025Z
URL:https://business.swrbot.com/events/details/meet-the-neighbours-and-b2b-networking-event-07-31-2014-2698
END:VEVENT

END:VCALENDAR
