BEGIN:VCALENDAR
VERSION:2.0
PRODID:-//ChamberMaster//Event Calendar 2.0//EN
METHOD:PUBLISH
X-PUBLISHED-TTL:P3D
REFRESH-INTERVAL:P3D
CALSCALE:GREGORIAN
BEGIN:VEVENT
DTSTART:20200513T230000Z
DTEND:20200514T000000Z
X-MICROSOFT-CDO-ALLDAYEVENT:FALSE
SUMMARY:Minister Mungall: Economic Recovery Post COVID-19
DESCRIPTION:The BC Chamber of Commerce is hosting an exclusive town hall discussion on May 13 at 4 pm\, with The Hon. Michelle Mungall\, Minister of Jobs\, Economic Development and Competitiveness. The Minister will answer questions about the re-opening of the economy\, available supports for businesses\, and how the Province will work with stakeholders to provide a clear pathway forward for BC businesses. Pre-registration is required.\n\nThe event will be using Zoom for the discussion to allow attendees to submit questions.
X-ALT-DESC;FMTTYPE=text/html:The BC Chamber of Commerce is hosting an exclusive town hall discussion on May 13 at 4 pm\, with&nbsp\;The Hon. Michelle Mungall\,&nbsp\;Minister of Jobs\, Economic Development and Competitiveness.&nbsp\;The Minister will answer questions about the re-opening of the economy\, available supports for businesses\, and how the Province will work with stakeholders to provide a clear pathway forward for BC businesses. Pre-registration is required.<br />\nThe event will be using Zoom for the discussion to allow attendees to submit questions.
LOCATION:This is a virtual event.
UID:e.749.14025
SEQUENCE:3
DTSTAMP:20260420T020420Z
URL:https://business.swrbot.com/events/details/minister-mungall-economic-recovery-post-covid-19-05-13-2020-14025
END:VEVENT

END:VCALENDAR
