BEGIN:VCALENDAR
VERSION:2.0
PRODID:-//ChamberMaster//Event Calendar 2.0//EN
METHOD:PUBLISH
X-PUBLISHED-TTL:P3D
REFRESH-INTERVAL:P3D
CALSCALE:GREGORIAN
BEGIN:VEVENT
DTSTART:20180517T010000Z
DTEND:20180517T040000Z
X-MICROSOFT-CDO-ALLDAYEVENT:FALSE
SUMMARY:Multi-Chamber Networking Event
DESCRIPTION:Multi-Chamber Networking Event Wednesday\, May 16 2018 6 p.m. at BC Place Join us for a night of unprecedented networking with chambers across the Lower Mainland! Member\n\n\n\nTicket: $43 ($10 F&B and Match Ticket included) *Tickets are exclusive to Chamber members and limited. Vancouver Whitecaps FC vs. San Jose Earthquakes
X-ALT-DESC;FMTTYPE=text/html:Multi-Chamber Networking Event Wednesday\, May 16 2018 6 p.m. at BC Place Join us for a night of unprecedented networking with chambers across the Lower Mainland! Member<br />\n<br />\n<strong>Ticket: </strong>$43 ($10 F&amp\;B and Match Ticket included) *Tickets are exclusive to Chamber members and limited. Vancouver Whitecaps FC vs. San Jose Earthquakes
LOCATION:BC Place 777 Pacific Blvd\, Vancouver\, BC\, V6B 4Y8
UID:e.749.6765
SEQUENCE:3
DTSTAMP:20260421T102600Z
URL:https://business.swrbot.com/events/details/multi-chamber-networking-event-05-16-2018-6765
END:VEVENT

END:VCALENDAR
