BEGIN:VCALENDAR
VERSION:2.0
PRODID:-//ChamberMaster//Event Calendar 2.0//EN
METHOD:PUBLISH
X-PUBLISHED-TTL:P3D
REFRESH-INTERVAL:P3D
CALSCALE:GREGORIAN
BEGIN:VEVENT
DTSTART:20140520T143000Z
DTEND:20140520T160000Z
X-MICROSOFT-CDO-ALLDAYEVENT:FALSE
SUMMARY:Multicultural Marketing Breakfast Seminar
DESCRIPTION:LAT Multilingual Translation & Marketing invites Vancouver business owners and executives to an exclusive breakfast seminar exploring multicultural marketing: what it is and how your business could use it to reach new customers\, grow sales and improve your bottom line. We will discuss how to: - Customize your marketing & communication plans\, including social media\, to reach new target markets. - Reach new customers locally in Vancouver\, Toronto\, Qu bec... to increase your brand: - Awareness - Credibility - Loyalty\, and? love SPEAK Your Customers? LANGUAGE\, REACH their HEART. RSVP deadline: May 16th
X-ALT-DESC;FMTTYPE=text/html:LAT Multilingual Translation &amp\; Marketing invites Vancouver business owners and executives to an exclusive breakfast seminar exploring multicultural marketing: what it is and how your business could use it to reach new customers\, grow sales and improve your bottom line. We will discuss how to: - Customize your marketing &amp\; communication plans\, including social media\, to reach new target markets. - Reach new customers locally in Vancouver\, Toronto\, Qu&eacute\;bec... to increase your brand: - Awareness - Credibility - Loyalty\, and? love SPEAK Your Customers? LANGUAGE\, REACH their HEART. RSVP deadline: May 16th
LOCATION:HiVE Vancouver: 128 West Hastings St.\, Suite 210\, Vancouver\, BC
UID:e.749.2647
SEQUENCE:3
DTSTAMP:20260425T212826Z
URL:https://business.swrbot.com/events/details/multicultural-marketing-breakfast-seminar-05-20-2014-2647
END:VEVENT

END:VCALENDAR
