BEGIN:VCALENDAR
VERSION:2.0
PRODID:-//ChamberMaster//Event Calendar 2.0//EN
METHOD:PUBLISH
X-PUBLISHED-TTL:P3D
REFRESH-INTERVAL:P3D
CALSCALE:GREGORIAN
BEGIN:VEVENT
DTSTART:20150306T023000Z
DTEND:20150306T031500Z
X-MICROSOFT-CDO-ALLDAYEVENT:FALSE
SUMMARY:Music Works Program
DESCRIPTION:This is a music Therapy program that covers: * Oral motor development with instrument activates *Speech development through song * Social stories through lyrics *Improve self esteem * Theory of mind * Concepts\, Numbers\, letters * Site Words Pre literacy-visual tracking *Improve gross and fine motor development * Increase endurance and balance *Provide a multitude of sensory experiences * Group basics * Joint attention
X-ALT-DESC;FMTTYPE=text/html:This is a music Therapy program that covers: * Oral motor development with instrument activates *Speech development through song * Social stories through lyrics *Improve self esteem * Theory of mind * Concepts\, Numbers\, letters * Site Words Pre literacy-visual tracking *Improve gross and fine motor development * Increase endurance and balance *Provide a multitude of sensory experiences * Group basics * Joint attention
LOCATION:16555 Fraser Highway\, Surrey Surrey Sport & Leisure Complex - Arena
UID:e.749.2881
SEQUENCE:3
DTSTAMP:20260423T103421Z
URL:https://business.swrbot.com/events/details/music-works-program-03-05-2015-2881
END:VEVENT

END:VCALENDAR
