BEGIN:VCALENDAR
VERSION:2.0
PRODID:-//ChamberMaster//Event Calendar 2.0//EN
METHOD:PUBLISH
X-PUBLISHED-TTL:P3D
REFRESH-INTERVAL:P3D
CALSCALE:GREGORIAN
BEGIN:VEVENT
DTSTART:20160303T170000Z
DTEND:20160303T191500Z
X-MICROSOFT-CDO-ALLDAYEVENT:FALSE
SUMMARY:NAFTA for Beginners Webinar Series
DESCRIPTION:Let us take the mystery out of this intricate free trade agreement. These 60-minute webinars offer novice importers a basic understanding of the North American Free Trade Agreement including eligibility\, accountability and "reasonable care" as outlined by customs. The series' part 2 offers a further examination of rules of origin specific to articles that have components from multiple countries\, and determining regional value content and net costs. We will also provide helpful hints on working through NAFTA certification.\n\n\n\nTopics Include\n\n\n	\n		\n			\n			Part 1\n\n			\n				What is NAFTA\n				NAFTA objective and eligibility\n				What is a Certificate of Origin\n				Exporter / Producer / Importer roles\n				NAFTA definitions\n				Considerations\n				Binding rulings\n				Consequences of non-compliance\n			\n			\n			\n			Part 2\n\n			\n				Completing a NAFTA certificate\n				Regional value content\n				Rules of origin\n				Preference criteria\n				Helpful hints\n				Reasonable care\n				Due diligence\n				Potential pitfalls\n			\n			\n		\n	\n\n\nWho Should Attend\n\nOwners\, Signing Officers\, Managers\, Supervisors\, Coordinators and Logistics staff of companies:\n\n\n	\n		\n			\n			\n				Under review by CBSA or CBP\n				Contemplating free trade agreement use\n			\n			\n			\n			\n				Importing with new staff\n				Confused about their product's eligibility
X-ALT-DESC;FMTTYPE=text/html:<p style="text-align:justify">Let us take the mystery out of this intricate free trade agreement. These 60-minute webinars offer novice importers a basic understanding of the North American Free Trade Agreement including eligibility\, accountability and &ldquo\;reasonable care&rdquo\; as outlined by customs. The series&rsquo\; part 2 offers a further examination of rules of origin specific to articles that have components from multiple countries\, and determining regional value content and net costs. We will also provide helpful hints on working through NAFTA certification.</p>\n\n<h3><br />\nTopics Include</h3>\n\n<table style="height:85px\; width:535px">\n	<tbody>\n		<tr>\n			<td>\n			<p><strong>Part 1</strong></p>\n\n			<ul>\n				<li>What is NAFTA</li>\n				<li>NAFTA objective and eligibility</li>\n				<li>What is a Certificate of Origin</li>\n				<li>Exporter / Producer / Importer roles</li>\n				<li>NAFTA definitions</li>\n				<li>Considerations</li>\n				<li>Binding rulings</li>\n				<li>Consequences of non-compliance</li>\n			</ul>\n			</td>\n			<td>\n			<p><strong>Part 2</strong></p>\n\n			<ul>\n				<li>Completing a NAFTA certificate</li>\n				<li>Regional value content</li>\n				<li>Rules of origin</li>\n				<li>Preference criteria</li>\n				<li>Helpful hints</li>\n				<li>Reasonable care</li>\n				<li>Due diligence</li>\n				<li>Potential pitfalls</li>\n			</ul>\n			</td>\n		</tr>\n	</tbody>\n</table>\n\n<h3>Who Should Attend</h3>\n\n<p>Owners\, Signing Officers\, Managers\, Supervisors\, Coordinators and Logistics staff of companies:</p>\n\n<table style="height:10px\; width:535px">\n	<tbody>\n		<tr>\n			<td>\n			<ul>\n				<li>Under review by CBSA or CBP</li>\n				<li>Contemplating free trade agreement use</li>\n			</ul>\n			</td>\n			<td>\n			<ul>\n				<li>Importing with new staff</li>\n				<li>Confused about their product&#39\;s eligibility</li>\n			</ul>\n			</td>\n		</tr>\n	</tbody>\n</table>\n
LOCATION:Online from any computer or mobile device
UID:e.749.4788
SEQUENCE:3
DTSTAMP:20260424T051009Z
URL:https://business.swrbot.com/events/details/nafta-for-beginners-webinar-series-03-03-2016-4788
END:VEVENT

END:VCALENDAR
