BEGIN:VCALENDAR
VERSION:2.0
PRODID:-//ChamberMaster//Event Calendar 2.0//EN
METHOD:PUBLISH
X-PUBLISHED-TTL:P3D
REFRESH-INTERVAL:P3D
CALSCALE:GREGORIAN
BEGIN:VEVENT
DTSTART;VALUE=DATE:20171120
DTEND;VALUE=DATE:20171121
TRANSP:TRANSPARENT
X-MICROSOFT-CDO-ALLDAYEVENT:TRUE
SUMMARY:National Child Day at Child Care Options CCRR
DESCRIPTION:This is the day when people across the country take time each year to celebrate Canada's most precious resource   our children. It's a day to remember that children need love and respect to grow to their full potential. We will be celebrating this day by: Offering a FREE BOOK to each child that visits Child Care Options CCRR on November 20th\, 2017 (while supplies last) - Offering a FREE WORKSHOP for Child Care Providers on the topic of Guiding and Supporting Behaviour (Registration required.\n\n\n\nRegister online at: childcareoptions.ca - Holding a FLASH SALE in the Early Years Learning Store for 40% off one item (some exceptions apply)
X-ALT-DESC;FMTTYPE=text/html:This is the day when people across the country take time each year to celebrate Canada&rsquo\;s most precious resource &ndash\; our children. It&rsquo\;s a day to remember that children need love and respect to grow to their full potential. We will be celebrating this day by: Offering a FREE BOOK to each child that visits Child Care Options CCRR on November 20th\, 2017 (while supplies last) - Offering a FREE WORKSHOP for Child Care Providers on the topic of Guiding and Supporting Behaviour (Registration required.<br />\n<br />\nRegister online at: childcareoptions.ca - Holding a FLASH SALE in the Early Years Learning Store for 40% off one item (some exceptions apply)
LOCATION:Child Care Options CCRR #100 - 6846 King George Blvd Surrey\, BC
UID:e.749.5559
SEQUENCE:3
DTSTAMP:20260421T181734Z
URL:https://business.swrbot.com/events/details/national-child-day-at-child-care-options-ccrr-11-20-2017-5559
END:VEVENT

END:VCALENDAR
