BEGIN:VCALENDAR
VERSION:2.0
PRODID:-//ChamberMaster//Event Calendar 2.0//EN
METHOD:PUBLISH
X-PUBLISHED-TTL:P3D
REFRESH-INTERVAL:P3D
CALSCALE:GREGORIAN
BEGIN:VEVENT
DTSTART:20150627T180000Z
DTEND:20150627T230000Z
X-MICROSOFT-CDO-ALLDAYEVENT:FALSE
SUMMARY:Newton Community Festival
DESCRIPTION:Newton Community Festival 2015\n\n \n\nDate: June 27\, 2015\n\nLocation: Newton Wave Pool\n\nCost: FREE!\n\n \n\nThe Newton Community Festival is a free family event\, which features a Ferris wheel\, live entertainment\, diverse food and craft vendors\, community and business displays\, facility tours and lots of interactive fun activities for all ages. \n\n \n\nThe Newton Community Festival will feature the following events and attractions:\n\n\n	Ferris Wheel\n	Main stage featuring local talent \n	Sponsors and partners display booths and attractions\n	Face Painting and Bouncy Castle \n	Live Entertainment\n	Children's arts\, crafts and games\n	Youth zone\n	And much more \n\n\n\n\nEvent Details: http://newtonbia.com
X-ALT-DESC;FMTTYPE=text/html:<p style="margin:0in\;font-family:Calibri\;font-size:11.0pt">Newton Community Festival 2015</p>\n\n<p style="margin:0in\;font-family:Calibri\;font-size:11.0pt">&nbsp\;</p>\n\n<p style="margin:0in\;font-family:Calibri\;font-size:11.0pt">Date: June 27\, 2015</p>\n\n<p style="margin:0in\;font-family:Calibri\;font-size:11.0pt">Location: Newton Wave Pool</p>\n\n<p style="margin:0in\;font-family:Calibri\;font-size:11.0pt">Cost: FREE!</p>\n\n<p style="margin:0in\;font-family:Calibri\;font-size:11.0pt">&nbsp\;</p>\n\n<p style="margin:0in\;font-family:Calibri\;font-size:11.0pt">The Newton Community Festival is a free family event\, which features a Ferris wheel\, live entertainment\, diverse food and craft vendors\, community and business displays\, facility tours and lots of interactive fun activities for all ages.&nbsp\;</p>\n\n<p style="margin:0in\;font-family:Calibri\;font-size:11.0pt">&nbsp\;</p>\n\n<p style="margin:0in\;font-family:Calibri\;font-size:11.0pt">The Newton Community Festival will feature the following events and attractions:</p>\n\n<ul style="margin-left:.375in\;direction:ltr\;unicode-bidi:embed\;\n margin-top:0in\;margin-bottom:0in" type="disc">\n	<li style="margin-top:0\;margin-bottom:0\;vertical-align:middle"><span style="font-family:Calibri\;font-size:11.0pt">Ferris Wheel</span></li>\n	<li style="margin-top:0\;margin-bottom:0\;vertical-align:middle"><span style="font-family:Calibri\;font-size:11.0pt">Main stage featuring local talent </span></li>\n	<li style="margin-top:0\;margin-bottom:0\;vertical-align:middle"><span style="font-family:Calibri\;font-size:11.0pt">Sponsors and partners display booths and attractions</span></li>\n	<li style="margin-top:0\;margin-bottom:0\;vertical-align:middle"><span style="font-family:Calibri\;font-size:11.0pt">Face Painting and Bouncy Castle </span></li>\n	<li style="margin-top:0\;margin-bottom:0\;vertical-align:middle"><span style="font-family:Calibri\;font-size:11.0pt">Live Entertainment</span></li>\n	<li style="margin-top:0\;margin-bottom:0\;vertical-align:middle"><span style="font-family:Calibri\;font-size:11.0pt">Children&rsquo\;s arts\, crafts and games</span></li>\n	<li style="margin-top:0\;margin-bottom:0\;vertical-align:middle"><span style="font-family:Calibri\;font-size:11.0pt">Youth zone</span></li>\n	<li style="margin-top:0\;margin-bottom:0\;vertical-align:middle"><span style="font-family:Calibri\;font-size:11.0pt">And much more&hellip\;</span></li>\n</ul>\n\n<p style="margin:0in\;font-family:Calibri\;font-size:11.0pt"><br />\nEvent Details: <a href="http://newtonbia.com">http://newtonbia.com</a></p>\n
LOCATION:Newton Wave Pool\, 13730 72 Ave\, Surrey\, BC V3W 2P4
UID:e.749.3594
SEQUENCE:3
DTSTAMP:20260423T151228Z
URL:https://business.swrbot.com/events/details/newton-community-festival-06-27-2015-3594
END:VEVENT

END:VCALENDAR
