BEGIN:VCALENDAR
VERSION:2.0
PRODID:-//ChamberMaster//Event Calendar 2.0//EN
METHOD:PUBLISH
X-PUBLISHED-TTL:P3D
REFRESH-INTERVAL:P3D
CALSCALE:GREGORIAN
BEGIN:VEVENT
DTSTART:20170715T190000Z
DTEND:20170715T230000Z
X-MICROSOFT-CDO-ALLDAYEVENT:FALSE
SUMMARY:Newton Days
DESCRIPTION:Missed the first Newton Days? No problem\, we're back for another weekend of fun with more kids zone fun\, Science World and live music. Explore locally-made crafts from Studio Seventy Three\, take part in karate demonstrations with Newton Black Belt Academy and treat yourself to gourmet hot dog from Taste of Heaven while supporting a good cause! Throughout July and August\, Newton Days will be taking over the Newton Grove on Saturdays from 12-4pm. Open to the community\, nearly everything will be free! Newton Days is a push to create a more vibrant community within the Newton Town Centre. Get out\, enjoy the weather\, enjoy the activities\, and get to know your neighborhood! Positive events like these in the community are key to the success of Newton and will be more successful with your support!
X-ALT-DESC;FMTTYPE=text/html:Missed the first Newton Days? No problem\, we&#39\;re back for another weekend of fun with more kids zone fun\, Science World and live music. Explore locally-made crafts from Studio Seventy Three\, take part in karate demonstrations with Newton Black Belt Academy and treat yourself to gourmet hot dog from Taste of Heaven while supporting a good cause! Throughout July and August\, Newton Days will be taking over the Newton Grove on Saturdays from 12-4pm. Open to the community\, nearly everything will be free! Newton Days is a push to create a more vibrant community within the Newton Town Centre. Get out\, enjoy the weather\, enjoy the activities\, and get to know your neighborhood! Positive events like these in the community are key to the success of Newton and will be more successful with your support!
LOCATION:The Newton Grove 13730 72 Avenue\, Surrey
UID:e.749.5379
SEQUENCE:3
DTSTAMP:20260421T230044Z
URL:https://business.swrbot.com/events/details/newton-days-07-15-2017-5379
END:VEVENT

END:VCALENDAR
