BEGIN:VCALENDAR
VERSION:2.0
PRODID:-//ChamberMaster//Event Calendar 2.0//EN
METHOD:PUBLISH
X-PUBLISHED-TTL:P3D
REFRESH-INTERVAL:P3D
CALSCALE:GREGORIAN
BEGIN:VEVENT
DTSTART:20170722T190000Z
DTEND:20170722T230000Z
X-MICROSOFT-CDO-ALLDAYEVENT:FALSE
SUMMARY:Newton Days
DESCRIPTION:It's the final Newton Days of July! Did you miss Studio Seventy Three last week? They're back with more of their wonderful crafts. The kids zone is expanding to include henna\, and the Taste of Heaven is back with more of their delicious hot dogs! And as always\, Zaklan Heritage Farm will be here with their locally grown fruits and veggies! Throughout July and August\, Newton Days will be taking over the Newton Grove on Saturdays from 12-4pm. Open to the community\, nearly everything will be free! Newton Days is a push to create a more vibrant community within the Newton Town Centre. Get out\, enjoy the weather\, enjoy the activities\, and get to know your neighborhood! Positive events like these in the community are key to the success of Newton and will be more successful with your support!
X-ALT-DESC;FMTTYPE=text/html:It&#39\;s the final Newton Days of July! Did you miss Studio Seventy Three last week? They&#39\;re back with more of their wonderful crafts. The kids zone is expanding to include henna\, and the Taste of Heaven is back with more of their delicious hot dogs! And as always\, Zaklan Heritage Farm will be here with their locally grown fruits and veggies! Throughout July and August\, Newton Days will be taking over the Newton Grove on Saturdays from 12-4pm. Open to the community\, nearly everything will be free! Newton Days is a push to create a more vibrant community within the Newton Town Centre. Get out\, enjoy the weather\, enjoy the activities\, and get to know your neighborhood! Positive events like these in the community are key to the success of Newton and will be more successful with your support!
LOCATION:The Newton Grove 13730 72 Avenue\, Surrey
UID:e.749.5380
SEQUENCE:3
DTSTAMP:20260421T230017Z
URL:https://business.swrbot.com/events/details/newton-days-07-22-2017-5380
END:VEVENT

END:VCALENDAR
