BEGIN:VCALENDAR
VERSION:2.0
PRODID:-//ChamberMaster//Event Calendar 2.0//EN
METHOD:PUBLISH
X-PUBLISHED-TTL:P3D
REFRESH-INTERVAL:P3D
CALSCALE:GREGORIAN
BEGIN:VEVENT
DTSTART:20170819T190000Z
DTEND:20170819T230000Z
X-MICROSOFT-CDO-ALLDAYEVENT:FALSE
SUMMARY:Newton Days
DESCRIPTION:OH NO\, It's almost over! Only 2 more weekends until we wrap for the summer. Be sure to swing down and enjoy the taste of sunshine from Zaklan Heritage Farm and the DIVERSEcity Community Kitchen. And take this final chance to own a piece of beautiful Newton from Studio Seventy Three. Throughout July and August\, Newton Days will be taking over the Newton Grove on Saturdays from 12-4pm. Open to the community\, nearly everything will be free! Newton Days is a push to create a more vibrant community within the Newton Town Centre. Get out\, enjoy the weather\, enjoy the activities\, and get to know your neighborhood! Positive events like these in the community are key to the success of Newton and will be more successful with your support!
X-ALT-DESC;FMTTYPE=text/html:OH NO\, It&#39\;s almost over! Only 2 more weekends until we wrap for the summer. Be sure to swing down and enjoy the taste of sunshine from Zaklan Heritage Farm and the DIVERSEcity Community Kitchen. And take this final chance to own a piece of beautiful Newton from Studio Seventy Three. Throughout July and August\, Newton Days will be taking over the Newton Grove on Saturdays from 12-4pm. Open to the community\, nearly everything will be free! Newton Days is a push to create a more vibrant community within the Newton Town Centre. Get out\, enjoy the weather\, enjoy the activities\, and get to know your neighborhood! Positive events like these in the community are key to the success of Newton and will be more successful with your support!
LOCATION:The Newton Grove 13730 72 Avenue\, Surrey
UID:e.749.5382
SEQUENCE:3
DTSTAMP:20260421T214600Z
URL:https://business.swrbot.com/events/details/newton-days-08-19-2017-5382
END:VEVENT

END:VCALENDAR
