BEGIN:VCALENDAR
VERSION:2.0
PRODID:-//ChamberMaster//Event Calendar 2.0//EN
METHOD:PUBLISH
X-PUBLISHED-TTL:P3D
REFRESH-INTERVAL:P3D
CALSCALE:GREGORIAN
BEGIN:VEVENT
DTSTART:20170826T190000Z
DTEND:20170826T230000Z
X-MICROSOFT-CDO-ALLDAYEVENT:FALSE
SUMMARY:Newton Days
DESCRIPTION:At last we've arrived at the final Newton Days of the year. And what better way to wrap things up than spending the evening with your Newton neighbors. Indulge yourself with a Taste of Heaven\, pick up some fresh fruits and veggies from Zaklan Heritage Farm and dust the cobwebs from your brains with a little science from Science World. Throughout July and August\, Newton Days will be taking over the Newton Grove on Saturdays from 12-4pm. Open to the community\, nearly everything will be free! Newton Days is a push to create a more vibrant community within the Newton Town Centre. Get out\, enjoy the weather\, enjoy the activities\, and get to know your neighborhood! Positive events like these in the community are key to the success of Newton and will be more successful with your support!
X-ALT-DESC;FMTTYPE=text/html:At last we&#39\;ve arrived at the final Newton Days of the year. And what better way to wrap things up than spending the evening with your Newton neighbors. Indulge yourself with a Taste of Heaven\, pick up some fresh fruits and veggies from Zaklan Heritage Farm and dust the cobwebs from your brains with a little science from Science World. Throughout July and August\, Newton Days will be taking over the Newton Grove on Saturdays from 12-4pm. Open to the community\, nearly everything will be free! Newton Days is a push to create a more vibrant community within the Newton Town Centre. Get out\, enjoy the weather\, enjoy the activities\, and get to know your neighborhood! Positive events like these in the community are key to the success of Newton and will be more successful with your support!
LOCATION:The Newton Grove 13730 72 Avenue\, Surrey
UID:e.749.5383
SEQUENCE:3
DTSTAMP:20260421T214552Z
URL:https://business.swrbot.com/events/details/newton-days-08-26-2017-5383
END:VEVENT

END:VCALENDAR
