BEGIN:VCALENDAR
VERSION:2.0
PRODID:-//ChamberMaster//Event Calendar 2.0//EN
METHOD:PUBLISH
X-PUBLISHED-TTL:P3D
REFRESH-INTERVAL:P3D
CALSCALE:GREGORIAN
BEGIN:VEVENT
DTSTART:20151114T020000Z
DTEND:20151114T063000Z
X-MICROSOFT-CDO-ALLDAYEVENT:FALSE
SUMMARY:NightShift 9th Gala of Light
DESCRIPTION:Will you join us for our annual fundraiser and help us be 'more than soup'?
X-ALT-DESC;FMTTYPE=text/html:Will you join us for our annual fundraiser and help us be &#39\;more than soup&#39\;?
LOCATION:Newlands Golf & Country Club
UID:e.749.3701
SEQUENCE:3
DTSTAMP:20260423T225637Z
URL:https://business.swrbot.com/events/details/nightshift-9th-gala-of-light-11-13-2015-3701
END:VEVENT

END:VCALENDAR
