BEGIN:VCALENDAR
VERSION:2.0
PRODID:-//ChamberMaster//Event Calendar 2.0//EN
METHOD:PUBLISH
X-PUBLISHED-TTL:P3D
REFRESH-INTERVAL:P3D
CALSCALE:GREGORIAN
BEGIN:VEVENT
DTSTART:20110210T010000Z
DTEND:20110210T010000Z
X-MICROSOFT-CDO-ALLDAYEVENT:FALSE
SUMMARY:Nomination Deadline - Surrey Women in Business Awards
DESCRIPTION:Deadline to apply for or nominate a woman in business for our 2nd Annual Women in Business Awards.
X-ALT-DESC;FMTTYPE=text/html:<div>Deadline to apply for or nominate a woman in business for our 2nd Annual Women in Business Awards.</div>
LOCATION:Nominations can be sent by Mail:#101 - 14439 104 Avenue\, Surrey\, BC V3R 1M1 Fax: 604-588-7549 Email: brianne@businessinsurrey.com
UID:e.749.1665
SEQUENCE:3
DTSTAMP:20260422T062240Z
URL:https://business.swrbot.com/events/details/nomination-deadline-surrey-women-in-business-awards-02-09-2011-1665
END:VEVENT

END:VCALENDAR
