BEGIN:VCALENDAR
VERSION:2.0
PRODID:-//ChamberMaster//Event Calendar 2.0//EN
METHOD:PUBLISH
X-PUBLISHED-TTL:P3D
REFRESH-INTERVAL:P3D
CALSCALE:GREGORIAN
BEGIN:VEVENT
DTSTART;VALUE=DATE:20091120
DTEND;VALUE=DATE:20091121
TRANSP:TRANSPARENT
X-MICROSOFT-CDO-ALLDAYEVENT:TRUE
SUMMARY:Nov. 20\, '09 - Coffee with Jamie
DESCRIPTION:
X-ALT-DESC;FMTTYPE=text/html:
LOCATION:
UID:e.749.1557
SEQUENCE:3
DTSTAMP:20260423T065145Z
URL:https://business.swrbot.com/events/details/nov-20-09-coffee-with-jamie-11-20-2009-1557
END:VEVENT

END:VCALENDAR
