BEGIN:VCALENDAR
VERSION:2.0
PRODID:-//ChamberMaster//Event Calendar 2.0//EN
METHOD:PUBLISH
X-PUBLISHED-TTL:P3D
REFRESH-INTERVAL:P3D
CALSCALE:GREGORIAN
BEGIN:VEVENT
DTSTART;VALUE=DATE:20091109
DTEND;VALUE=DATE:20091110
TRANSP:TRANSPARENT
X-MICROSOFT-CDO-ALLDAYEVENT:TRUE
SUMMARY:Nov. 9\, '09 - Future Member Orientation
DESCRIPTION:
X-ALT-DESC;FMTTYPE=text/html:
LOCATION:
UID:e.749.1562
SEQUENCE:3
DTSTAMP:20260423T064922Z
URL:https://business.swrbot.com/events/details/nov-9-09-future-member-orientation-11-09-2009-1562
END:VEVENT

END:VCALENDAR
