BEGIN:VCALENDAR
VERSION:2.0
PRODID:-//ChamberMaster//Event Calendar 2.0//EN
METHOD:PUBLISH
X-PUBLISHED-TTL:P3D
REFRESH-INTERVAL:P3D
CALSCALE:GREGORIAN
BEGIN:VEVENT
DTSTART:20141113T160000Z
DTEND:20141113T180000Z
X-MICROSOFT-CDO-ALLDAYEVENT:FALSE
SUMMARY:November 13\, 2014 - Sales Skills for Entrepreneurs and Sales People
DESCRIPTION:Selling your product or service is essential for any business. Too often\, businesses invest in marketing and promotions\, but when a potential customer is on the line we fail to sell them on our business. This workshop is designed for new and experienced entrepreneurs and sales people. Develop your sales skills and learn how to close the deal!\n\n\n\nAttend this sales skills workshop to learn:\n\nThe Trust Based Sales Model\n\nHow to sell by asking questions\n\nHow to build value so you sell for maximum profit\n\nHow to easily handle objections\n\nHow to close sales without closing sales\n\n\n\nPresented by Tony Malyk\, Certified Professional Business Coach.
X-ALT-DESC;FMTTYPE=text/html:Selling your product or service is essential for any business. Too often\, businesses invest in marketing and promotions\, but when a potential customer is on the line we fail to sell them on our business. This workshop is designed for new and experienced entrepreneurs and sales people. Develop your sales skills and learn how to close the deal!<br />\n<br />\nAttend this sales skills workshop to learn:<br />\nThe Trust Based Sales Model<br />\nHow to sell by asking questions<br />\nHow to build value so you sell for maximum profit<br />\nHow to easily handle objections<br />\nHow to close sales without closing sales<br />\n<br />\nPresented by Tony Malyk\, Certified Professional Business Coach.
LOCATION:Surrey Board of Trade Conference Room 101 - 14439 104th Ave Surrey\, BC
UID:e.749.2682
SEQUENCE:3
DTSTAMP:20260425T140607Z
URL:https://business.swrbot.com/events/details/november-13-2014-sales-skills-for-entrepreneurs-and-sales-people-11-13-2014-2682
END:VEVENT

END:VCALENDAR
